BEGIN:VCALENDAR
VERSION:2.0
PRODID:test.reiseregion-flaeming.de
BEGIN:VEVENT
UID:69e5f4d80e271
DTSTART:20260427T140000Z
SEQUENCE:0
TRANSP:OPAQUE
DTEND:20260427T160000Z
URL:http://test.reiseregion-flaeming.de/veranstaltung/potsdam/gemeinsam-lei
 cht-spiele-und-schreibuebungen-in-leichter-sprache
LOCATION:Rechenzentrum Potsdam\, Dortustraße 46\, 14467 Potsdam
X-APPLE-STRUCTURED-LOCATION;VALUE=URI;X-ADDRESS="Rechenzentrum Potsdam, Dor
 tustraße 46, 14467 Potsdam";X-APPLE-RADIUS=49;X-TITLE=Rechenzentrum Potsd
 am:geo:13.053786,52.396377
GEO:13.053786;52.396377
SUMMARY:Gemeinsam leicht? – Spiele und Schreibübungen in Leichter Sprach
 e
CLASS:PUBLIC
DESCRIPTION:Wir erforschen spielerisch die Regeln der Leichten Sprache.  \n
 Es gibt Schreibübungen\, Text-Puzzle und Bilder-Lotto.  \nKommt mit Fachl
 euten ins Gespräch\, die Texte prüfen und übersetzen.  \nMacht mit – 
 an verschiedenen gemütlichen Orten.\n\n**Hinweis:**  \nAssistenz ist vorh
 anden. Ihr werdet vom Eingang zum Raum begleitet.  \nBitte meldet euch an\
 , gerne per E-Mail unter leichtesprache@fliedner.de\n\nKontakt:\n\nBüro f
 ür Leichte Sprache\, Theodor Fliedner Stiftung Brandenburg gGmbH\nMaxie K
 arius und Carolin Höpfner\n\n \nTelefon: +49 176 76 98 11 44\nEmail: leic
 htesprache@fliedner.de\n\nWeitere Informationen zur Veranstaltung: http://
 test.reiseregion-flaeming.de/veranstaltung/potsdam/gemeinsam-leicht-spiele
 -und-schreibuebungen-in-leichter-sprache
CATEGORIES:Workshop / Seminar
DTSTAMP:20260420T094144Z
END:VEVENT
END:VCALENDAR