BEGIN:VCALENDAR
VERSION:2.0
PRODID:test.reiseregion-flaeming.de
BEGIN:VEVENT
UID:69e606c2747f9
DTSTART:20260421T160000Z
SEQUENCE:0
TRANSP:OPAQUE
DTEND:20260421T180000Z
URL:http://test.reiseregion-flaeming.de/veranstaltung/potsdam/unsichtbare-b
 arrieren-sichtbar-machen
LOCATION:Übergangsstandort Rathaus Potsdam\, Edisonallee 5-9\, 14473 Potsd
 am
X-APPLE-STRUCTURED-LOCATION;VALUE=URI;X-ADDRESS="Übergangsstandort Rathaus
  Potsdam, Edisonallee 5-9, 14473 Potsdam";X-APPLE-RADIUS=49;X-TITLE=Überg
 angsstandort Rathaus Potsdam:geo:13.048838,52.399551
GEO:13.048838;52.399551
SUMMARY:Unsichtbare Barrieren sichtbar machen
CLASS:PUBLIC
DESCRIPTION:Viele Barrieren sind unsichtbar. Sie entstehen in unseren Köpf
 en und durch unsere Sprache.  \nDie AG Kopfkino zeigt diese Hürden.  \nMe
 nschen berichten von Hindernissen in der Uni\, bei der Arbeit und zu Hause
 .  \nWir sammeln Ideen für ein inklusiveres Potsdam.  \nMachen Sie mit!  
 \n \n\n**Hinweis:  **  \nWeitere Informationen finden Sie auf dieser Inter
 netseite: Kopfkino-Potsdam.de/Barrieren-sichtbar-machen\n\nKontakt:\n\nAG 
 Kopfkino des Beirats für Menschen mit Behinderung\nAnne Lück\n\n \nTelef
 on: +49 176 20812432\nEmail: kopfkino-potsdam@posteo.de\n\nWeitere Informa
 tionen zur Veranstaltung: http://test.reiseregion-flaeming.de/veranstaltun
 g/potsdam/unsichtbare-barrieren-sichtbar-machen
CATEGORIES:Workshop / Seminar
DTSTAMP:20260420T105810Z
END:VEVENT
END:VCALENDAR