BEGIN:VCALENDAR
VERSION:2.0
PRODID:test.reiseregion-flaeming.de
BEGIN:VEVENT
UID:69e6080de4fb4
DTSTART:20260421T150000Z
SEQUENCE:0
TRANSP:OPAQUE
DTEND:20260421T170000Z
URL:http://test.reiseregion-flaeming.de/veranstaltung/potsdam/zeit-fuer-mic
 h-entspannung-fuer-pflegekraefte-und-pflegende-angehoerige
LOCATION:includere * Praxis für Psychotherapie und mentale Gesundheit\, Yo
 rckstraße 3\, 14467 Potsdam
X-APPLE-STRUCTURED-LOCATION;VALUE=URI;X-ADDRESS="includere * Praxis für Ps
 ychotherapie und mentale Gesundheit, Yorckstraße 3, 14467 Potsdam";X-APPL
 E-RADIUS=49;X-TITLE=includere * Praxis für Psychotherapie und mentale Ges
 undheit:geo:13.048838,52.399551
GEO:13.048838;52.399551
SUMMARY:Zeit für mich – Entspannung für Pflegekräfte und pflegende Ang
 ehörige
CLASS:PUBLIC
DESCRIPTION:Sie kümmern sich um andere Menschen?  \nDas ist wertvoll\, abe
 r auch anstrengend. In diesem Workshop stehen Sie im Mittelpunkt. Lernen S
 ie\, wann Ihr Körper Sie warnt. Lernen Sie einfache Entspannungsübungen.
   \nSo können Sie gut für sich sorgen und Kraft bekommen.\n\nKontakt:\n\
 nincludere * Praxis für Psychotherapie und mentale Gesundheit\nYorckstra
 ße 3\n14467 Potsdam\nTelefon: +49 155 60989728\nEmail: kontakt@includere-
 psychotherapie.de\nWebseite: https://www.includere-psychotherapie.de/de-x-
 informal\n\nWeitere Informationen zur Veranstaltung: http://test.reiseregi
 on-flaeming.de/veranstaltung/potsdam/zeit-fuer-mich-entspannung-fuer-pfleg
 ekraefte-und-pflegende-angehoerige
CATEGORIES:Sport
DTSTAMP:20260420T110342Z
END:VEVENT
END:VCALENDAR