BEGIN:VCALENDAR
VERSION:2.0
PRODID:test.reiseregion-flaeming.de
BEGIN:VEVENT
UID:69e758bc73ac2
DTSTART:20260510T093000Z
SEQUENCE:0
TRANSP:OPAQUE
DTEND:20260510T120000Z
URL:http://test.reiseregion-flaeming.de/veranstaltung/ruppiner-seenland/bru
 nch-zum-muttertag
LOCATION:Alter Hafen\, Ziegelei 11\, 16792 Zehdenick
X-APPLE-STRUCTURED-LOCATION;VALUE=URI;X-ADDRESS="Alter Hafen, Ziegelei 11, 
 16792 Zehdenick";X-APPLE-RADIUS=49;X-TITLE=Alter Hafen:geo:13.311437,53.03
 2669
GEO:13.311437;53.032669
SUMMARY:Brunch zum Muttertag
CLASS:PUBLIC
DESCRIPTION:Großes Geburtstagsbuffet für die Familie mit vielen kalten un
 d warmen Speisen und ein Kuchenbuffet am Nachmittag.\n\nKontakt:\n\nAlter 
 Hafen\nZiegelei 11\n16792 Zehdenick\nTelefon: +49 3307 301870\nEmail: will
 kommen@alterhafen.de\nWebseite: https://www.alterhafen.de/\n\nWeitere Info
 rmationen zur Veranstaltung: http://test.reiseregion-flaeming.de/veranstal
 tung/ruppiner-seenland/brunch-zum-muttertag
CATEGORIES:Essen und Trinken
DTSTAMP:20260421T110013Z
END:VEVENT
END:VCALENDAR