BEGIN:VCALENDAR
VERSION:2.0
PRODID:test.reiseregion-flaeming.de
BEGIN:VEVENT
UID:69e7982d15b40
DTSTART:20260510T080000Z
SEQUENCE:0
TRANSP:OPAQUE
DTEND:20260510T140000Z
URL:http://test.reiseregion-flaeming.de/veranstaltung/seenland-oder-spree/a
 ntik-und-troedelmarkt-in-wendisch-rietz
LOCATION:Hauptstraße vor dem Scharmuntzelland\, Am Freizeitpark  1\, 15864
  Wendisch Rietz
X-APPLE-STRUCTURED-LOCATION;VALUE=URI;X-ADDRESS="Hauptstraße vor dem Schar
 muntzelland, Am Freizeitpark  1, 15864 Wendisch Rietz";X-APPLE-RADIUS=49;X
 -TITLE=Hauptstraße vor dem Scharmuntzelland:geo:14.009392,52.221711
GEO:14.009392;52.221711
SUMMARY:Antik- und Trödelmarkt in Wendisch Rietz
CLASS:PUBLIC
DESCRIPTION:Unsere Märkte konzipieren wir gewohnt als Treffpunkte für Lie
 bhaber alter Dinge. Unser Augenmerk liegt in der Auswahl schöner und inte
 ressanter Orte in Ostbrandenburg. Somit haben wir in Wendisch Rietz einen 
 neuen Platz gefunden . Direkt am Freizeitpark Scharmuntzelland gibt es nun
  ein neues Eldorado für Sammler und Jäger von antiken Kostbarkeiten oder
  schönen und nützlichen alten Dingen. Zugleich können die Besucher des 
 Marktes den Freizeitpark und die wunderbare Umgebung des Scharmützelsees 
 besuchen. Für das leibliche Wohl ist gesorgt.  \nWer mitmachen möchte\, 
 als Händler oder Privat- bzw. Hobbytrödler\, kann sich anmelden:  \nEmai
 l: post@alte-foersterei-briescht.de oder Telefon: 033674 42713.\n\nKontakt
 :\n\nAlte Försterei Briescht\nDorfstraße 39\n15848 Briescht\nTelefon: +4
 9 33674 42713\nEmail: post@alte-foersterei-briescht.de\nWebseite: https://
 www.alte-foersterei-briescht.de/\n\nWeitere Informationen zur Veranstaltun
 g: http://test.reiseregion-flaeming.de/veranstaltung/seenland-oder-spree/a
 ntik-und-troedelmarkt-in-wendisch-rietz
CATEGORIES:Markt
DTSTAMP:20260421T153053Z
END:VEVENT
END:VCALENDAR