BEGIN:VCALENDAR
VERSION:2.0
PRODID:test.reiseregion-flaeming.de
BEGIN:VEVENT
UID:69e89ea95890c
DTSTART:20260708T080000Z
SEQUENCE:0
TRANSP:OPAQUE
DTEND:20260708T120000Z
URL:http://test.reiseregion-flaeming.de/veranstaltung/spreewald/weisser-rin
 g-e-v-punkt-auf-dem-wochenmarkt
LOCATION:Marktplatz Lübben\, Am Markt\, 15907 Lübben (Spreewald)
X-APPLE-STRUCTURED-LOCATION;VALUE=URI;X-ADDRESS="Marktplatz Lübben, Am Mar
 kt, 15907 Lübben (Spreewald)";X-APPLE-RADIUS=49;X-TITLE=Marktplatz Lübbe
 n:geo:13.896778,51.942063
GEO:13.896778;51.942063
SUMMARY:„Weißer Ring e. V.“ auf dem Wochenmarkt
CLASS:PUBLIC
DESCRIPTION:Der „Weißer Ring e. V.“ ist vor Ort und bietet von 10:00 U
 hr bis 14:00 Uhr als Hilfsorganisation für Opfer von Kriminalität in Deu
 tschland kostenlose Beratungen und umfassende Hilfen an. Zu den Hilfsmögl
 ichkeiten gehören u. a. menschlicher Beistand und persönliche Betreuung\
 , Begleitung zu Terminen bei Polizei\, Staatsanwaltschaft und Gericht\, Ge
 währung von Rechtsschutz sowie finanzielle Unterstützung von tatbedingte
 n Notlagen.\n\nKontakt:\n\nWEISSEN RING - Außenstelle Dahme-Spreewald\n\n
  \nTelefon: +49 0151 55164700\nEmail: \nWebseite: https://dahme-spreewald-
 brandenburg.weisser-ring.de/\n\nWeitere Informationen zur Veranstaltung: h
 ttp://test.reiseregion-flaeming.de/veranstaltung/spreewald/weisser-ring-e-
 v-punkt-auf-dem-wochenmarkt
CATEGORIES:Workshop / Seminar
DTSTAMP:20260422T101049Z
END:VEVENT
BEGIN:VEVENT
UID:69e89ea962123
DTSTART:20260909T080000Z
SEQUENCE:0
TRANSP:OPAQUE
DTEND:20260909T120000Z
URL:http://test.reiseregion-flaeming.de/veranstaltung/spreewald/weisser-rin
 g-e-v-punkt-auf-dem-wochenmarkt
LOCATION:Marktplatz Lübben\, Am Markt\, 15907 Lübben (Spreewald)
X-APPLE-STRUCTURED-LOCATION;VALUE=URI;X-ADDRESS="Marktplatz Lübben, Am Mar
 kt, 15907 Lübben (Spreewald)";X-APPLE-RADIUS=49;X-TITLE=Marktplatz Lübbe
 n:geo:13.896778,51.942063
GEO:13.896778;51.942063
SUMMARY:„Weißer Ring e. V.“ auf dem Wochenmarkt
CLASS:PUBLIC
DESCRIPTION:Der „Weißer Ring e. V.“ ist vor Ort und bietet von 10:00 U
 hr bis 14:00 Uhr als Hilfsorganisation für Opfer von Kriminalität in Deu
 tschland kostenlose Beratungen und umfassende Hilfen an. Zu den Hilfsmögl
 ichkeiten gehören u. a. menschlicher Beistand und persönliche Betreuung\
 , Begleitung zu Terminen bei Polizei\, Staatsanwaltschaft und Gericht\, Ge
 währung von Rechtsschutz sowie finanzielle Unterstützung von tatbedingte
 n Notlagen.\n\nKontakt:\n\nWEISSEN RING - Außenstelle Dahme-Spreewald\n\n
  \nTelefon: +49 0151 55164700\nEmail: \nWebseite: https://dahme-spreewald-
 brandenburg.weisser-ring.de/\n\nWeitere Informationen zur Veranstaltung: h
 ttp://test.reiseregion-flaeming.de/veranstaltung/spreewald/weisser-ring-e-
 v-punkt-auf-dem-wochenmarkt
CATEGORIES:Workshop / Seminar
DTSTAMP:20260422T101049Z
END:VEVENT
END:VCALENDAR