BEGIN:VCALENDAR
VERSION:2.0
PRODID:test.reiseregion-flaeming.de
BEGIN:VEVENT
UID:69e4addb26db3
DTSTART:20260502T120000Z
SEQUENCE:0
TRANSP:OPAQUE
DTEND:20260502T160000Z
URL:http://test.reiseregion-flaeming.de/veranstaltung/spreewald/offenes-ate
 liers-brandenburg
LOCATION:Mareile Grunemann\, Kastanienallee 1\, 15868 Jamlitz
X-APPLE-STRUCTURED-LOCATION;VALUE=URI;X-ADDRESS="Mareile Grunemann, Kastani
 enallee 1, 15868 Jamlitz";X-APPLE-RADIUS=49;X-TITLE=Mareile Grunemann:geo:
 14.353780,51.990035
GEO:14.353780;51.990035
SUMMARY:Offenes Ateliers Brandenburg
CLASS:PUBLIC
DESCRIPTION:KERAMIK  \nGartencafè  \nMitmachaktion: Gestaltung einer eigen
 en Tasse / Namensschild\n\nKontakt:\n\nMareile Grunemann\n\n \nTelefon: +4
 9 1775203171\nEmail: \n\nWeitere Informationen zur Veranstaltung: http://t
 est.reiseregion-flaeming.de/veranstaltung/spreewald/offenes-ateliers-brand
 enburg
CATEGORIES:Ausstellung,Workshop / Seminar
DTSTAMP:20260419T102635Z
END:VEVENT
END:VCALENDAR