BEGIN:VCALENDAR
VERSION:2.0
PRODID:test.reiseregion-flaeming.de
BEGIN:VEVENT
UID:69e4e3c1179ef
DTSTART:20261108T110000Z
SEQUENCE:0
TRANSP:OPAQUE
DTEND:20261108T180000Z
URL:http://test.reiseregion-flaeming.de/veranstaltung/lausitzer-seenland/ma
 rtinsgans-dinner-in-drei-gaengen-im-restaurant-arche
LOCATION:Restaurant Arche\, Am Hafen 5\, 02943 Boxberg
X-APPLE-STRUCTURED-LOCATION;VALUE=URI;X-ADDRESS="Restaurant Arche, Am Hafen
  5, 02943 Boxberg";X-APPLE-RADIUS=49;X-TITLE=Restaurant Arche:geo:14.58089
 1,51.402324
GEO:14.580891;51.402324
SUMMARY:Martinsgans - Dinner in Drei Gängen im Restaurant Arche
CLASS:PUBLIC
DESCRIPTION:Das Arche - Team lädt zum Martinsgans-Dinner in 3 Gängen ein.
   \nGenießen Sie den Abend und lassen Sie sich verwöhnen.  \nWir freuen 
 uns darauf\, Sie bei uns am wunderschönen Bärwalder See willkommen zu he
 ißen.  \n \n\nBitte reservieren Sie verbindlich\, telefonisch oder per E-
 Mail.\n\nKontakt:\n\nRestaurant Arche\nAngela Weise\nAm Hafen  5\n02943 Bo
 xberg\nTelefon: +49 35895 566484\nEmail: kontakt@arche-restaurant.de\nWebs
 eite: https://arche-restaurant.de/\n\nWeitere Informationen zur Veranstalt
 ung: http://test.reiseregion-flaeming.de/veranstaltung/lausitzer-seenland/
 martinsgans-dinner-in-drei-gaengen-im-restaurant-arche
CATEGORIES:Essen und Trinken
DTSTAMP:20260419T141633Z
END:VEVENT
END:VCALENDAR