BEGIN:VCALENDAR
VERSION:2.0
PRODID:test.reiseregion-flaeming.de
BEGIN:VEVENT
UID:69e79ec5b9fca
DTSTART:20261003T100000Z
SEQUENCE:0
TRANSP:OPAQUE
DTEND:20261003T120000Z
URL:http://test.reiseregion-flaeming.de/veranstaltung/lausitzer-seenland/fe
 iertags-menue-zum-tag-der-deutschen-einheit
LOCATION:Restaurant Arche\, Am Hafen 5\, 02943 Boxberg
X-APPLE-STRUCTURED-LOCATION;VALUE=URI;X-ADDRESS="Restaurant Arche, Am Hafen
  5, 02943 Boxberg";X-APPLE-RADIUS=49;X-TITLE=Restaurant Arche:geo:14.58089
 1,51.402324
GEO:14.580891;51.402324
SUMMARY:Feiertags-Menü zum Tag der Deutschen Einheit
CLASS:PUBLIC
DESCRIPTION:Den Feiertag mit kulinarischen Köstlichkeiten und traumhaften 
 Blick über den Bärwalder See genießen.\n\nDas Arche -Team bittet um Vor
 ab Reservierung.\n\nKontakt:\n\nRestaurant Arche\nAngela Weise\nAm Hafen  
 5\n02943 Boxberg\nTelefon: +49 35895 566484\nEmail: kontakt@arche-restaura
 nt.de\nWebseite: https://arche-restaurant.de/\n\nWeitere Informationen zur
  Veranstaltung: http://test.reiseregion-flaeming.de/veranstaltung/lausitze
 r-seenland/feiertags-menue-zum-tag-der-deutschen-einheit
CATEGORIES:Essen und Trinken
DTSTAMP:20260421T155901Z
END:VEVENT
END:VCALENDAR