BEGIN:VCALENDAR
VERSION:2.0
PRODID:test.reiseregion-flaeming.de
BEGIN:VEVENT
UID:69e4e3868a7d2
DTSTART:20260603T060000Z
SEQUENCE:0
TRANSP:OPAQUE
DTEND:20260603T170000Z
URL:http://test.reiseregion-flaeming.de/veranstaltung/lausitzer-seenland/au
 sflug-fuer-senioren-und-alle-interessierten-aus-der-gemeinde-boxberg
LOCATION:Bushaltestelle\, Ernst-Thälmann Straße\, 02943 Boxberg OL
X-APPLE-STRUCTURED-LOCATION;VALUE=URI;X-ADDRESS="Bushaltestelle, Ernst-Thä
 lmann Straße, 02943 Boxberg OL";X-APPLE-RADIUS=49;X-TITLE=Bushaltestelle:
 geo:14.599436,51.350670
GEO:14.599436;51.350670
SUMMARY:Ausflug für Senioren und alle Interessierten aus der Gemeinde Boxb
 erg
CLASS:PUBLIC
DESCRIPTION:Wir haben wieder einen Ausflug für Sie mit Teich-Touristik gep
 lant. Es geht nach **_Neuzelle und Schlaubetal_**.\n\n_Abfahrt_ :  8:00 Uh
 r an der Bushaltestelle Klitten\n\n  * Busbeförderung\n  * Führung im Kl
 oster Neuzelle\n  * Mittagessen in der Klosterklause\n  * Rundfahrt Schlau
 betal\n  * Kaffeetrinken in Guben\n\n\n\n _Rückankunft:_  gegen 19:00 Uhr
 \n\nAnmeldungen und Bezahlung bitte bis spätestens 25.05.2026...\n\nKonta
 kt:\n\nHeimatverein Klitten e.V.\nSiglinde Berlin\n\n \nTelefon: +49 172 6
 184875\nEmail: heimatverein.klitten@gmail.com\n\nWeitere Informationen zur
  Veranstaltung: http://test.reiseregion-flaeming.de/veranstaltung/lausitze
 r-seenland/ausflug-fuer-senioren-und-alle-interessierten-aus-der-gemeinde-
 boxberg
CATEGORIES:Führung / Besichtigung
DTSTAMP:20260419T141534Z
END:VEVENT
END:VCALENDAR