BEGIN:VCALENDAR
VERSION:2.0
PRODID:test.reiseregion-flaeming.de
BEGIN:VEVENT
UID:69e4cfa5119cd
DTSTART:20260422T120000Z
SEQUENCE:0
TRANSP:OPAQUE
DTEND:20260422T150000Z
URL:http://test.reiseregion-flaeming.de/veranstaltung/lausitzer-seenland/kl
 ittener-kaffeetreff-bei-romme-skat-und-co-sowie-stricken-und-haekeln-2
LOCATION:Gerätehaus der Freiwilligen Feuerwehr Klitten\, Straße der Jugen
 d 62 D\, 02943 Boxberg OL
X-APPLE-STRUCTURED-LOCATION;VALUE=URI;X-ADDRESS="Gerätehaus der Freiwillig
 en Feuerwehr Klitten, Straße der Jugend 62 D, 02943 Boxberg OL";X-APPLE-R
 ADIUS=49;X-TITLE=Gerätehaus der Freiwilligen Feuerwehr Klitten:geo:14.598
 591,51.351325
GEO:14.598591;51.351325
SUMMARY:Klittener KAFFEETREFF bei Romme´\, Skat & Co sowie Stricken und H
 äkeln
CLASS:PUBLIC
DESCRIPTION:Herzliche Einladung zu einem gemütlichen Nachmittag! Wir komme
 n zusammen zum Spielen\, Handarbeiten und Plaudern.  \n  \nEin kleiner Imb
 iss mit Getränken wird für einen kleinen Betrag bereitgestellt. Bei Frag
 en und Anmeldungen rufen Sie mich gern an.\n\nKontakt:\n\nMarita Krause\n\
 n \nTelefon: +49 35895 566180\nEmail: \n\nWeitere Informationen zur Verans
 taltung: http://test.reiseregion-flaeming.de/veranstaltung/lausitzer-seenl
 and/klittener-kaffeetreff-bei-romme-skat-und-co-sowie-stricken-und-haekeln
 -2
CATEGORIES:Workshop / Seminar
DTSTAMP:20260419T125046Z
END:VEVENT
BEGIN:VEVENT
UID:69e4cfa58256a
DTSTART:20260429T120000Z
SEQUENCE:0
TRANSP:OPAQUE
DTEND:20260429T150000Z
URL:http://test.reiseregion-flaeming.de/veranstaltung/lausitzer-seenland/kl
 ittener-kaffeetreff-bei-romme-skat-und-co-sowie-stricken-und-haekeln-2
LOCATION:Gerätehaus der Freiwilligen Feuerwehr Klitten\, Straße der Jugen
 d 62 D\, 02943 Boxberg OL
X-APPLE-STRUCTURED-LOCATION;VALUE=URI;X-ADDRESS="Gerätehaus der Freiwillig
 en Feuerwehr Klitten, Straße der Jugend 62 D, 02943 Boxberg OL";X-APPLE-R
 ADIUS=49;X-TITLE=Gerätehaus der Freiwilligen Feuerwehr Klitten:geo:14.598
 591,51.351325
GEO:14.598591;51.351325
SUMMARY:Klittener KAFFEETREFF bei Romme´\, Skat & Co sowie Stricken und H
 äkeln
CLASS:PUBLIC
DESCRIPTION:Herzliche Einladung zu einem gemütlichen Nachmittag! Wir komme
 n zusammen zum Spielen\, Handarbeiten und Plaudern.  \n  \nEin kleiner Imb
 iss mit Getränken wird für einen kleinen Betrag bereitgestellt. Bei Frag
 en und Anmeldungen rufen Sie mich gern an.\n\nKontakt:\n\nMarita Krause\n\
 n \nTelefon: +49 35895 566180\nEmail: \n\nWeitere Informationen zur Verans
 taltung: http://test.reiseregion-flaeming.de/veranstaltung/lausitzer-seenl
 and/klittener-kaffeetreff-bei-romme-skat-und-co-sowie-stricken-und-haekeln
 -2
CATEGORIES:Workshop / Seminar
DTSTAMP:20260419T125046Z
END:VEVENT
END:VCALENDAR