BEGIN:VCALENDAR
VERSION:2.0
PRODID:test.reiseregion-flaeming.de
BEGIN:VEVENT
UID:69e4cf9453f14
DTSTART:20260425T080000Z
SEQUENCE:0
TRANSP:OPAQUE
DTEND:20260425T120000Z
URL:http://test.reiseregion-flaeming.de/veranstaltung/lausitzer-seenland/ho
 lzannahme-hexenhaufen-in-boxberg-ol
LOCATION:Dorfgemeinschaftshaus Boxberg\, Alte Bautzner Straße 87\, 02943 B
 oxberg OL
X-APPLE-STRUCTURED-LOCATION;VALUE=URI;X-ADDRESS="Dorfgemeinschaftshaus Boxb
 erg, Alte Bautzner Straße 87, 02943 Boxberg OL";X-APPLE-RADIUS=49;X-TITLE
 =Dorfgemeinschaftshaus Boxberg:geo:14.580891,51.402324
GEO:14.580891;51.402324
SUMMARY:Holzannahme Hexenhaufen in Boxberg OL
CLASS:PUBLIC
DESCRIPTION:Von 10:00 - 14:00 Uhr haben alle Bürger von Boxberg die Mögli
 chkeit\, unbehandeltes Holz und Baumverschnitt für den Hexenhaufen an der
  \"Alten Gemeinde\" abzugeben.\n\nAus Sicherheitsgründen kann wie in jede
 m Jahr\, nur eine begrenzte Menge angenommen werden\n\nKontakt:\n\nHerr Ma
 rkus Zimmermann\nDiesterwegstr.  13\n02943 Boxberg OL\nTelefon: \nEmail: v
 erein-ffboxberg@web.de\n\nWeitere Informationen zur Veranstaltung: http://
 test.reiseregion-flaeming.de/veranstaltung/lausitzer-seenland/holzannahme-
 hexenhaufen-in-boxberg-ol
CATEGORIES:Fest / Brauchtum
DTSTAMP:20260419T125029Z
END:VEVENT
END:VCALENDAR