BEGIN:VCALENDAR
VERSION:2.0
PRODID:test.reiseregion-flaeming.de
BEGIN:VEVENT
UID:69e4cfcb059e3
DTSTART:20260421T141500Z
SEQUENCE:0
TRANSP:OPAQUE
DTEND:20260421T154500Z
URL:http://test.reiseregion-flaeming.de/veranstaltung/lausitzer-seenland/th
 emenabend-foerderung-der-selbstregulation-von-kindern
LOCATION:ImAustauschBörse Boxberg OL\, Diesterwegstraße 38\, 02943 Boxber
 g OL
X-APPLE-STRUCTURED-LOCATION;VALUE=URI;X-ADDRESS="ImAustauschBörse Boxberg 
 OL, Diesterwegstraße 38, 02943 Boxberg OL";X-APPLE-RADIUS=49;X-TITLE=ImAu
 stauschBörse Boxberg OL:geo:14.579412,51.403050
GEO:14.579412;51.403050
SUMMARY:Themenabend - Förderung der Selbstregulation von Kindern
CLASS:PUBLIC
DESCRIPTION:Wie kann ich die Selbstregulation meines Kindes fördern und st
 eigern? \n\nDie Antwort darauf finden wir gemeinsam mit Heilpädagogin (i.
 A.) N. Sander. Bei Interesse melden Sie sich bitte vorab an.\n\nKontakt:\n
 \nImAustauschBörse Boxberg OL\nDiesterwegstraße 38\n02943 Boxberg OL\nTe
 lefon: +49 152 57614542\nEmail: netzwerkprojekt@schlupfwinkel-weisswasser.
 de\nWebseite: https://schlupfwinkel-weisswasser.de/netzwerkprojekt/beratun
 g/\n\nWeitere Informationen zur Veranstaltung: http://test.reiseregion-fla
 eming.de/veranstaltung/lausitzer-seenland/themenabend-foerderung-der-selbs
 tregulation-von-kindern
CATEGORIES:Workshop / Seminar
DTSTAMP:20260419T125123Z
END:VEVENT
END:VCALENDAR