BEGIN:VCALENDAR
VERSION:2.0
PRODID:test.reiseregion-flaeming.de
BEGIN:VEVENT
UID:69e4cfcae1441
DTSTART:20260421T051500Z
SEQUENCE:0
TRANSP:OPAQUE
DTEND:20260421T171500Z
URL:http://test.reiseregion-flaeming.de/veranstaltung/lausitzer-seenland/se
 nioren-busreise
LOCATION:Am Friedhof Reichwalde\, Jahnstraße\, 02943 Boxberg OL
X-APPLE-STRUCTURED-LOCATION;VALUE=URI;X-ADDRESS="Am Friedhof Reichwalde, Ja
 hnstraße, 02943 Boxberg OL";X-APPLE-RADIUS=49;X-TITLE=Am Friedhof Reichwa
 lde:geo:14.664450,51.377781
GEO:14.664450;51.377781
SUMMARY:Senioren Busreise
CLASS:PUBLIC
DESCRIPTION:**Liebe Senioren** von Boxberg\, Reichwalde\, Kringelsdorf\, No
 chten\, Sprey und Bärwalde...\n\nwir fahren zum Schwielochsee und schauen
  uns die Gläserne Molkerei Münchehofe an.\n\n  * _Abfahrt:_ 7:15 Uhr ab 
 Reichwalde (andere Orte etwas später) Busbeförderung mit Erklärung10:00
  - 11:30 Uhr Schifffahrt Schwielochsee\n  * 12:00 Uhr Mittagessen - Hafent
 errasse Goyatz (Schnitzel mit Champignonsauce)\n  * 14:00 Uhr Gläserne Mo
 lkerei mit Führung\n  * 16:00 Uhr Kaffeetrinken (Hotel Spreewaldhof Lübb
 en)\n  * _Rückankunft:_ ca. 19:00 Uhr\n\n\n\nLetzte Meldung am 04.April a
 n Renate Schmidt.\n\nIch freue mich auf Ihre Teilnahme...\n\nKontakt:\n\nR
 enate Schmidt\n\n \nTelefon: +49 152 51792912\nEmail: \n\nWeitere Informat
 ionen zur Veranstaltung: http://test.reiseregion-flaeming.de/veranstaltung
 /lausitzer-seenland/senioren-busreise
CATEGORIES:Führung / Besichtigung
DTSTAMP:20260419T125122Z
END:VEVENT
END:VCALENDAR