BEGIN:VCALENDAR
VERSION:2.0
PRODID:test.reiseregion-flaeming.de
BEGIN:VEVENT
UID:69e7541a77a61
DTSTART:20261122T130000Z
SEQUENCE:0
TRANSP:OPAQUE
DTEND:20261122T150000Z
URL:http://test.reiseregion-flaeming.de/veranstaltung/seenland-oder-spree/h
 ans-im-krieg-auf-den-spuren-meines-vaters
LOCATION:Gedenkstätte Seelower Höhen\, Küstriner Straße 28\, 15306 Seel
 ow (Seenland Oder-Spree)
X-APPLE-STRUCTURED-LOCATION;VALUE=URI;X-ADDRESS="Gedenkstätte Seelower Hö
 hen, Küstriner Straße 28, 15306 Seelow (Seenland Oder-Spree)";X-APPLE-RA
 DIUS=49;X-TITLE=Gedenkstätte Seelower Höhen:geo:14.395717,52.535325
GEO:14.395717;52.535325
SUMMARY:\" Hans im Krieg\" - auf den Spuren meines Vaters\"
CLASS:PUBLIC
DESCRIPTION:\n\nKontakt:\n\nGedenkstätte Seelower Höhen\nKüstriner Stra
 ße 28\n15306 Seelow\nTelefon: +49 3346 597\nEmail: \n\nWeitere Informatio
 nen zur Veranstaltung: http://test.reiseregion-flaeming.de/veranstaltung/s
 eenland-oder-spree/hans-im-krieg-auf-den-spuren-meines-vaters
CATEGORIES:Lesung / Vortrag
DTSTAMP:20260421T104026Z
END:VEVENT
END:VCALENDAR