BEGIN:VCALENDAR
VERSION:2.0
PRODID:test.reiseregion-flaeming.de
BEGIN:VEVENT
UID:69e62b96a285a
DTSTART:20260426T140000Z
SEQUENCE:0
TRANSP:OPAQUE
DTEND:20260426T160000Z
URL:http://test.reiseregion-flaeming.de/veranstaltung/ruppiner-seenland/das
 -gruene-lesecafe
LOCATION:Hans-Joachim Scheffler-Garten\, Am Kirchplatz 12\, 16792 Zehdenick
X-APPLE-STRUCTURED-LOCATION;VALUE=URI;X-ADDRESS="Hans-Joachim Scheffler-Gar
 ten, Am Kirchplatz 12, 16792 Zehdenick";X-APPLE-RADIUS=49;X-TITLE=Hans-Joa
 chim Scheffler-Garten:geo:13.332596,52.978095
GEO:13.332596;52.978095
SUMMARY:Das grüne Lesecafé
CLASS:PUBLIC
DESCRIPTION:Eine Veranstaltung des Freundeskreises Hans-Joachim Scheffler-G
 arten e.V.\n\nKontakt:\n\nFreundeskreis Hans-Joachim Scheffler-Garten e.V.
 \nAm Kirchplatz  12\n16792 Zehdenick\nTelefon: +49 3307 310883\nEmail: fre
 undeskreis@scheffler-garten.de\nWebseite: https://freundeskreis-scheffler-
 garten.de/\n\nWeitere Informationen zur Veranstaltung: http://test.reisere
 gion-flaeming.de/veranstaltung/ruppiner-seenland/das-gruene-lesecafe
CATEGORIES:Lesung / Vortrag
DTSTAMP:20260420T133518Z
END:VEVENT
BEGIN:VEVENT
UID:69e62b96a9991
DTSTART:20260524T140000Z
SEQUENCE:0
TRANSP:OPAQUE
DTEND:20260524T160000Z
URL:http://test.reiseregion-flaeming.de/veranstaltung/ruppiner-seenland/das
 -gruene-lesecafe
LOCATION:Hans-Joachim Scheffler-Garten\, Am Kirchplatz 12\, 16792 Zehdenick
X-APPLE-STRUCTURED-LOCATION;VALUE=URI;X-ADDRESS="Hans-Joachim Scheffler-Gar
 ten, Am Kirchplatz 12, 16792 Zehdenick";X-APPLE-RADIUS=49;X-TITLE=Hans-Joa
 chim Scheffler-Garten:geo:13.332596,52.978095
GEO:13.332596;52.978095
SUMMARY:Das grüne Lesecafé
CLASS:PUBLIC
DESCRIPTION:Eine Veranstaltung des Freundeskreises Hans-Joachim Scheffler-G
 arten e.V.\n\nKontakt:\n\nFreundeskreis Hans-Joachim Scheffler-Garten e.V.
 \nAm Kirchplatz  12\n16792 Zehdenick\nTelefon: +49 3307 310883\nEmail: fre
 undeskreis@scheffler-garten.de\nWebseite: https://freundeskreis-scheffler-
 garten.de/\n\nWeitere Informationen zur Veranstaltung: http://test.reisere
 gion-flaeming.de/veranstaltung/ruppiner-seenland/das-gruene-lesecafe
CATEGORIES:Lesung / Vortrag
DTSTAMP:20260420T133518Z
END:VEVENT
END:VCALENDAR