BEGIN:VCALENDAR
VERSION:2.0
PRODID:test.reiseregion-flaeming.de
BEGIN:VEVENT
UID:69e7ac63bc80f
DTSTART:20260715T170000Z
SEQUENCE:0
TRANSP:OPAQUE
DTEND:20260715T183000Z
URL:http://test.reiseregion-flaeming.de/veranstaltung/seenland-oder-spree/s
 telldichein-die-pfanne-eine-revue-ueber-den-schmelztiegel-oderbruch-im-spi
 egel-der-menschen-die-in-ihm-taetig-waren
LOCATION:Stadtpfarrkirche Lebus\, Schulstr. 8\, 15326 Lebus
X-APPLE-STRUCTURED-LOCATION;VALUE=URI;X-ADDRESS="Stadtpfarrkirche Lebus, Sc
 hulstr. 8, 15326 Lebus";X-APPLE-RADIUS=49;X-TITLE=Stadtpfarrkirche Lebus:g
 eo:14.541096,52.426019
GEO:14.541096;52.426019
SUMMARY:Stelldichein: Die Pfanne – eine Revue über den Schmelztiegel Ode
 rbruch im Spiegel der Menschen\, die in ihm tätig waren
CLASS:PUBLIC
DESCRIPTION:Das Oderbruch macht einen abgelegenen Eindruck – weite Felder
 \, Wasser\, wenige Dörfer. Da erstaunt es doch\, wer hier alles gewirkt h
 at! Eine muntere Auseinandersetzung über die Prominenz im Oderbruch mit L
 iedern\, Gedichten und einem illustren Bühnenbild. Mit Kenneth Anders\, L
 ars Fischer und Sebastian Blache.\n\nKontakt:\n\nOderbruch Museum Altranft
 \nAm Anger 27\n16259 Bad Freienwalde\nTelefon: +49 3344 333911\nEmail: inf
 o@oderbruchmuseum.de\nWebseite: https://www.kulturerbe-oderbruch.de/verans
 taltungen/stelldichein-die-alte-im-bruch\n\nWeitere Informationen zur Vera
 nstaltung: http://test.reiseregion-flaeming.de/veranstaltung/seenland-oder
 -spree/stelldichein-die-pfanne-eine-revue-ueber-den-schmelztiegel-oderbruc
 h-im-spiegel-der-menschen-die-in-ihm-taetig-waren
CATEGORIES:Lesung / Vortrag
DTSTAMP:20260421T165709Z
END:VEVENT
END:VCALENDAR