BEGIN:VCALENDAR
VERSION:2.0
PRODID:test.reiseregion-flaeming.de
BEGIN:VEVENT
UID:69e7ac6741f8d
DTSTART:20260617T170000Z
SEQUENCE:0
TRANSP:OPAQUE
DTEND:20260617T183000Z
URL:http://test.reiseregion-flaeming.de/veranstaltung/seenland-oder-spree/s
 telldichein-botschaften-aus-dem-exil-auszuege-aus-unveroeffentlich-ten-bri
 efen-von-hugo-simon
LOCATION:Schweizerhaus Seelow\, Am Schweizerhaus 1-5\, 15306 Seelow
X-APPLE-STRUCTURED-LOCATION;VALUE=URI;X-ADDRESS="Schweizerhaus Seelow, Am S
 chweizerhaus 1-5, 15306 Seelow";X-APPLE-RADIUS=49;X-TITLE=Schweizerhaus Se
 elow:geo:14.399518,52.532837
GEO:14.399518;52.532837
SUMMARY:Stelldichein: Botschaften aus dem Exil: Auszüge aus unveröffentli
 ch- ten Briefen von Hugo Simon
CLASS:PUBLIC
DESCRIPTION:Eine Lesung samt anschließendem Gespräch mit Rafael Cardoso\,
  dem Urenkel des Mustergutbegründers Hugo Simon\, sowie Karina Werner und
  Anita Mielitz vom Verein „Schweizerhaus Seelow“ e.V.\n\nKontakt:\n\nO
 derbruch Museum Altranft\nAm Anger 27\n16259 Bad Freienwalde\nTelefon: +49
  3344 333911\nEmail: info@oderbruchmuseum.de\nWebseite: https://www.kultur
 erbe-oderbruch.de/veranstaltungen/stelldichein-die-alte-im-bruch\n\nWeiter
 e Informationen zur Veranstaltung: http://test.reiseregion-flaeming.de/ver
 anstaltung/seenland-oder-spree/stelldichein-botschaften-aus-dem-exil-auszu
 ege-aus-unveroeffentlich-ten-briefen-von-hugo-simon
CATEGORIES:Lesung / Vortrag
DTSTAMP:20260421T165711Z
END:VEVENT
END:VCALENDAR