BEGIN:VCALENDAR
VERSION:2.0
PRODID:test.reiseregion-flaeming.de
BEGIN:VEVENT
UID:69e759cdcef15
DTSTART:20260610T170000Z
SEQUENCE:0
TRANSP:OPAQUE
DTEND:20260610T183000Z
URL:http://test.reiseregion-flaeming.de/veranstaltung/seenland-oder-spree/s
 telldichein-er-sitzt-und-liest-und-singt-geschichten-und-lieder-aus-der-ge
 faengniszelle-des-ehemaligen-spritzenhauses-gusow
LOCATION:Spritzenhaus Gusow\, Hauptstraße 31\, 15306 Gusow-Platkow
X-APPLE-STRUCTURED-LOCATION;VALUE=URI;X-ADDRESS="Spritzenhaus Gusow, Haupts
 traße 31, 15306 Gusow-Platkow";X-APPLE-RADIUS=49;X-TITLE=Spritzenhaus Gus
 ow:geo:14.335853,52.582177
GEO:14.335853;52.582177
SUMMARY:Stelldichein: „Er sitzt und liest und singt“ – Geschichten un
 d Lieder aus der Gefängniszelle des ehemaligen Spritzenhauses Gusow
CLASS:PUBLIC
DESCRIPTION:Rainer Nawrath liest Texte über das Leben in Gusow-Platkow des
  17. – 19. Jahrhunderts aus der Winkelmann-Chronik vom ehemaligen Landra
 t und Deichgrafen Friedrich Heinrich von Podewils. Musikalisch begleitet w
 ird er von Benjamin Laser. Bilder des Gusower Malers Otto Scholz rahmen di
 e Lesung.\n\nKontakt:\n\nOderbruch Museum Altranft\nAm Anger 27\n16259 Bad
  Freienwalde\nTelefon: +49 3344 333911\nEmail: info@oderbruchmuseum.de\nWe
 bseite: https://www.kulturerbe-oderbruch.de/veranstaltungen/stelldichein-d
 ie-alte-im-bruch\n\nWeitere Informationen zur Veranstaltung: http://test.r
 eiseregion-flaeming.de/veranstaltung/seenland-oder-spree/stelldichein-er-s
 itzt-und-liest-und-singt-geschichten-und-lieder-aus-der-gefaengniszelle-de
 s-ehemaligen-spritzenhauses-gusow
CATEGORIES:Lesung / Vortrag
DTSTAMP:20260421T110447Z
END:VEVENT
END:VCALENDAR