BEGIN:VCALENDAR
VERSION:2.0
PRODID:test.reiseregion-flaeming.de
BEGIN:VEVENT
UID:69e7ac66446c1
DTSTART:20260513T170000Z
SEQUENCE:0
TRANSP:OPAQUE
DTEND:20260513T183000Z
URL:http://test.reiseregion-flaeming.de/veranstaltung/seenland-oder-spree/s
 telldichein-die-alte-im-bruch
LOCATION:Kulturerbe-Ort Kirchenruine Podelzig\, Hauptstraße 27\, 15326 Pod
 elzig
X-APPLE-STRUCTURED-LOCATION;VALUE=URI;X-ADDRESS="Kulturerbe-Ort Kirchenruin
 e Podelzig, Hauptstraße 27, 15326 Podelzig";X-APPLE-RADIUS=49;X-TITLE=Kul
 turerbe-Ort Kirchenruine Podelzig:geo:14.534587,52.472860
GEO:14.534587;52.472860
SUMMARY:Stelldichein: Die Alte im Bruch
CLASS:PUBLIC
DESCRIPTION:Und sie schaute den Fluss hinauf und hinab\, sah ihn sich durch
  die Jahrhunderte winden\, mit dem Fluss kommende und gehende Menschen aus
  unterschiedlichen Kulturen und Zeiten. Ein Bühnenstück gespielt vom The
 ater Frankfurt unter der Regie von Frank Radüg.\n\nKontakt:\n\nOderbruch 
 Museum Altranft\nAm Anger 27\n16259 Bad Freienwalde\nTelefon: +49 3344 333
 911\nEmail: info@oderbruchmuseum.de\nWebseite: https://www.kulturerbe-oder
 bruch.de/veranstaltungen/stelldichein-die-alte-im-bruch\n\nWeitere Informa
 tionen zur Veranstaltung: http://test.reiseregion-flaeming.de/veranstaltun
 g/seenland-oder-spree/stelldichein-die-alte-im-bruch
CATEGORIES:Theater / Tanz / Kabarett
DTSTAMP:20260421T165710Z
END:VEVENT
END:VCALENDAR