BEGIN:VCALENDAR
VERSION:2.0
PRODID:test.reiseregion-flaeming.de
BEGIN:VEVENT
UID:69e79eaa684cd
DTSTART:20260620T160000Z
SEQUENCE:0
TRANSP:OPAQUE
DTEND:20260620T180000Z
URL:http://test.reiseregion-flaeming.de/veranstaltung/prignitz/konzert-der-
 band-blackbird
LOCATION:Kirche Ganzer (Wusterhausen)\, 16845 Wusterhausen/Dosse
X-APPLE-STRUCTURED-LOCATION;VALUE=URI;X-ADDRESS="Kirche Ganzer (Wusterhause
 n), 16845 Wusterhausen/Dosse";X-APPLE-RADIUS=49;X-TITLE=Kirche Ganzer (Wus
 terhausen):geo:12.460535,52.891293
GEO:12.460535;52.891293
SUMMARY:Konzert der Band BLACKBIRD
CLASS:PUBLIC
DESCRIPTION:Konzert der Band BLACKBIRD in der Cabriokirche Ganzer\, Einlass
  ab 18:00 Uhr\, Bei schlechtem Wetter werden Zelte gestellt\n\nKontakt:\n\
 nVerein Dorf - und Kirche Ganzer e.V.\n\n16868 wusterhausen/Dosse\nTelefon
 : \nEmail: \n\nWeitere Informationen zur Veranstaltung: http://test.reiser
 egion-flaeming.de/veranstaltung/prignitz/konzert-der-band-blackbird
CATEGORIES:Chor / Folklore / Volksmusik
DTSTAMP:20260421T155834Z
END:VEVENT
END:VCALENDAR