BEGIN:VCALENDAR
VERSION:2.0
PRODID:test.reiseregion-flaeming.de
BEGIN:VEVENT
UID:69e7afe79db03
DTSTART:20260724T153000Z
SEQUENCE:0
TRANSP:OPAQUE
DTEND:20260724T173000Z
URL:http://test.reiseregion-flaeming.de/veranstaltung/lausitzer-seenland/te
 rassenkonzert-alina-dalsegno-und-jan-kossek-blues-und-jazz-mit-russischer-
 seele
LOCATION:Restaurant und Cafe Wilhelm\, Hegelstrasse 1a\, 03172 Guben
X-APPLE-STRUCTURED-LOCATION;VALUE=URI;X-ADDRESS="Restaurant und Cafe Wilhel
 m, Hegelstrasse 1a, 03172 Guben";X-APPLE-RADIUS=49;X-TITLE=Restaurant und 
 Cafe Wilhelm:geo:14.705972,51.945407
GEO:14.705972;51.945407
SUMMARY:Terassenkonzert - Alina Dalsegno und Jan Kossek: Blues und Jazz mit
  russischer Seele
CLASS:PUBLIC
DESCRIPTION:Mit Wurzeln in der Weite der sibirischen Ebene ist Alina Dalseg
 no Singer-Songwriter und sucht die gleiche\, grenzenlose Freiheit in Musik
  und Kunst. Nach über 15 Jahren in verschiedenen Bands\, Projekten und Or
 chestern an Bass und Rhythmusgitarre entstanden seit 2020 eigene Melodien 
 und Worte. Inspiriert und angeheizt von einer anderen\, magischen Zeit auf
  der anderen Seite der Welt – den 60ern mit Künstlern wie Creedence Cle
 arwater Revival\, Bob Dylan\, Jimi Hendrix und vielen anderen.\n\nNach der
  Begegnung mit Jan Kosyk berühren sich die Pfade der beiden Reisenden in 
 Blues\, Jazz und Liedermacherei um ein altes – und gleichzeitig neues 
 – Musikerlebnis zu schaffen. Alina Dalsegno an Gesang und Bass sowie Jan
  Kosyk am Klavier\, beide erfahren im Solo- und Ensemblespiel\, beschreite
 n diese Reise als Duo und kreieren eine Musik aus vielen Dekaden.\n\nKonta
 kt:\n\nGubener Sozialwerke gGmbH\nStraupitzstraße 4/5\n03172 Guben\nTelef
 on: +49 3561 500 0\nEmail: info@sozialwerke.de\nWebseite: https://www.sozi
 alwerke.de\n\nWeitere Informationen zur Veranstaltung: http://test.reisere
 gion-flaeming.de/veranstaltung/lausitzer-seenland/terassenkonzert-alina-da
 lsegno-und-jan-kossek-blues-und-jazz-mit-russischer-seele
CATEGORIES:Rock / Pop / Jazz
DTSTAMP:20260421T171207Z
END:VEVENT
END:VCALENDAR