BEGIN:VCALENDAR
VERSION:2.0
PRODID:test.reiseregion-flaeming.de
BEGIN:VEVENT
UID:69e7c31354b27
DTSTART:20260517T090000Z
SEQUENCE:0
TRANSP:OPAQUE
DTEND:20260517T150000Z
URL:http://test.reiseregion-flaeming.de/veranstaltung/seenland-oder-spree/i
 nternationaler-museumstag-blmk
LOCATION:Brandenburgisches Landesmuseum für moderne Kunst\, Rathaushalle\,
  Marktplatz 1\, 15230 Frankfurt (Oder)
X-APPLE-STRUCTURED-LOCATION;VALUE=URI;X-ADDRESS="Brandenburgisches Landesmu
 seum für moderne Kunst, Rathaushalle, Marktplatz 1, 15230 Frankfurt (Oder
 )";X-APPLE-RADIUS=49;X-TITLE="Brandenburgisches Landesmuseum für moderne 
 Kunst, Rathaushalle":geo:14.554274,52.344211
GEO:14.554274;52.344211
SUMMARY:Internationaler Museumstag - BLMK
CLASS:PUBLIC
DESCRIPTION:Das Brandenburgische Landesmuseum für moderne Kunst (BLMK) lä
 dt am internationalen Museumstag von 11:00 bis 17:00 Uhr dazu ein\, aktuel
 le Ausstellungen und zeitgenössische Kunst bei freiem Eintritt im Packhof
  und in der Rathaushalle in Frankfurt (Oder) neu zu entdecken.\n\nKontakt:
 \n\nBrandenburgisches Landesmuseum für moderne Kunst\nCarl-Philipp-Emanue
 l-Bach-Straße 11\n15230 Frankfurt (Oder)\nTelefon: +49 335 4015629\nEmail
 : info-ffo@blmk.de\nWebseite: https://www.blmk.de\n\nWeitere Informationen
  zur Veranstaltung: http://test.reiseregion-flaeming.de/veranstaltung/seen
 land-oder-spree/internationaler-museumstag-blmk
CATEGORIES:Ausstellung
DTSTAMP:20260421T183356Z
END:VEVENT
END:VCALENDAR