BEGIN:VCALENDAR
VERSION:2.0
PRODID:test.reiseregion-flaeming.de
BEGIN:VEVENT
UID:69e7c30d943cf
DTSTART:20260721T173000Z
SEQUENCE:0
TRANSP:OPAQUE
DTEND:20260721T190000Z
URL:http://test.reiseregion-flaeming.de/veranstaltung/ruppiner-seenland/lib
 ertango-konzert-fuer-saxophon-und-harfe
LOCATION:Klosterkirche St. Trinitatis\, Neuruppin\, Niemöllerplatz\, 16816
  Neuruppin
X-APPLE-STRUCTURED-LOCATION;VALUE=URI;X-ADDRESS="Klosterkirche St. Trinitat
 is, Neuruppin, Niemöllerplatz, 16816 Neuruppin";X-APPLE-RADIUS=49;X-TITLE
 ="Klosterkirche St. Trinitatis, Neuruppin":geo:12.809782,52.922679
GEO:12.809782;52.922679
SUMMARY:„Libertango“ - Konzert für Saxophon und Harfe
CLASS:PUBLIC
DESCRIPTION:Die Kombination von Saxophon und Harfe nicht gerade alltäglich
 ! Die beiden Instrumente werden gewöhnlich in unterschiedliche Musikspart
 en verortet: Das Saxophon als typisches Jazzinstrument trifft auf das typi
 sche Orchesterinstrument Harfe. Und dennoch - oder vielleicht gerade deswe
 gen? - ist diese Kombination eine der reizvollsten.\n\nDie Berliner Harfen
 istin Jessyca Flemming und Ralf Benschu\, vielen noch als langjähriger Sa
 xophonist von „Keimzeit“ bekannt\, spielen schwungvolle rhythmische We
 rke\, bekannte Klassiker\, jazzige Musik und lateinamerikanische Tänze\, 
 bei denen natürlich der bekannte \"Libertango\" von A. Piazolla nicht feh
 len darf. Es erklingen außerdem Werke von J. Rabinski\, G. Fauré\, C. Ma
 chado u.a.\n\nEintritt frei. Spenden am Ausgang erbeten.\n\nKontakt:\n\nKM
 D Matthias Noack\nVirchowstr.  13\n16816 Neuruppin\nTelefon: +49 3391 4051
 92\nEmail: matthias.noack@gemeinsam.ekbo.de\n\nWeitere Informationen zur V
 eranstaltung: http://test.reiseregion-flaeming.de/veranstaltung/ruppiner-s
 eenland/libertango-konzert-fuer-saxophon-und-harfe
CATEGORIES:Klassisches Konzert / Oper
DTSTAMP:20260421T183351Z
END:VEVENT
END:VCALENDAR