BEGIN:VCALENDAR
VERSION:2.0
PRODID:test.reiseregion-flaeming.de
BEGIN:VEVENT
UID:69e7d676799b7
DTSTART:20260714T173000Z
SEQUENCE:0
TRANSP:OPAQUE
DTEND:20260714T190000Z
URL:http://test.reiseregion-flaeming.de/veranstaltung/ruppiner-seenland/duo
 -artevivo-violine-und-orgel
LOCATION:Klosterkirche St. Trinitatis\, Neuruppin\, Niemöllerplatz\, 16816
  Neuruppin
X-APPLE-STRUCTURED-LOCATION;VALUE=URI;X-ADDRESS="Klosterkirche St. Trinitat
 is, Neuruppin, Niemöllerplatz, 16816 Neuruppin";X-APPLE-RADIUS=49;X-TITLE
 ="Klosterkirche St. Trinitatis, Neuruppin":geo:12.809782,52.922679
GEO:12.809782;52.922679
SUMMARY:Duo ARTEVIVO – Violine & Orgel
CLASS:PUBLIC
DESCRIPTION:Von den kunstvollen Violinsonaten Johann Sebastian Bachs über 
 bekannte Klassiker\, wie Dvořaks Humoreske und romantischen Orgelfeuerwer
 ken bis zeitgenössischen tschechischer Kompositionen und einem Violinen-F
 lamenco reicht die Palette des Repertoires\, das die beiden aus Tschechien
  stammenden Musiker mitbringen. Lada Fedorova studierte in Prag und Dänem
 ark\, ist Preisträgerin verschiedener Wettbewerbe und lebt heute in Däne
 mark. Ihr Begleiter an der Orgel František Vaniček spielte schon über 1
 200 Orgelsolokonzert in allen Teilen Europas und vielen Ländern der Welt.
  Er ist brühmt für sein „famoses und glänzend beherrschtes Spiel“ u
 nd ist Professor an der Universität Hradec Kralove. \n\nEintritt frei. Sp
 enden am Ausgang erbeten.\n\nKontakt:\n\nKMD Matthias Noack\nVirchowstr.  
 13\n16816 Neuruppin\nTelefon: +49 3391 405192\nEmail: matthias.noack@gemei
 nsam.ekbo.de\n\nWeitere Informationen zur Veranstaltung: http://test.reise
 region-flaeming.de/veranstaltung/ruppiner-seenland/duo-artevivo-violine-un
 d-orgel
CATEGORIES:Klassisches Konzert / Oper
DTSTAMP:20260421T195638Z
END:VEVENT
END:VCALENDAR