BEGIN:VCALENDAR
VERSION:2.0
PRODID:test.reiseregion-flaeming.de
BEGIN:VEVENT
UID:69e7ebdf090e7
DTSTART:20260630T173000Z
SEQUENCE:0
TRANSP:OPAQUE
DTEND:20260630T190000Z
URL:http://test.reiseregion-flaeming.de/veranstaltung/ruppiner-seenland/erl
 esenes-fuer-violine-und-cembalo
LOCATION:Klosterkirche St. Trinitatis\, Neuruppin\, Niemöllerplatz\, 16816
  Neuruppin
X-APPLE-STRUCTURED-LOCATION;VALUE=URI;X-ADDRESS="Klosterkirche St. Trinitat
 is, Neuruppin, Niemöllerplatz, 16816 Neuruppin";X-APPLE-RADIUS=49;X-TITLE
 ="Klosterkirche St. Trinitatis, Neuruppin":geo:12.809782,52.922679
GEO:12.809782;52.922679
SUMMARY:Erlesenes für Violine und Cembalo
CLASS:PUBLIC
DESCRIPTION:Zwei Saiteninstrumente: Die Saiten des einen mit dem Bogen gest
 richen und zum Singen gebracht\, die des anderen mit Gänsekielen gezupft 
 und mit zart-silbrigem Klang... Bert Greiner\, Professor für Violinspiel 
 und Leiter des Telemann-Kammerorchesters Blankenburg/Harz und sein Begleit
 er Reinhard Glende\, Spezialist für historische Aufführungspraxis und Le
 hrer an der Musikschule „Béla Bartók“ Berlin\, präsentieren erlesen
 e musikalische Perlen des Barock. \n\nEintritt frei. Spenden am Ausgang er
 beten.\n\nKontakt:\n\nKMD Matthias Noack\nVirchowstr.  13\n16816 Neuruppin
 \nTelefon: +49 3391 405192\nEmail: matthias.noack@gemeinsam.ekbo.de\n\nWei
 tere Informationen zur Veranstaltung: http://test.reiseregion-flaeming.de/
 veranstaltung/ruppiner-seenland/erlesenes-fuer-violine-und-cembalo
CATEGORIES:Klassisches Konzert / Oper
DTSTAMP:20260421T212759Z
END:VEVENT
END:VCALENDAR