BEGIN:VCALENDAR
VERSION:2.0
PRODID:test.reiseregion-flaeming.de
BEGIN:VEVENT
UID:69e7eb36b680d
DTSTART:20260620T170000Z
SEQUENCE:0
TRANSP:OPAQUE
DTEND:20260620T183000Z
URL:http://test.reiseregion-flaeming.de/veranstaltung/ruppiner-seenland/ges
 tirne-chorkonzert-zum-mitsingen
LOCATION:Klosterkirche St. Trinitatis\, Neuruppin\, Niemöllerplatz\, 16816
  Neuruppin
X-APPLE-STRUCTURED-LOCATION;VALUE=URI;X-ADDRESS="Klosterkirche St. Trinitat
 is, Neuruppin, Niemöllerplatz, 16816 Neuruppin";X-APPLE-RADIUS=49;X-TITLE
 ="Klosterkirche St. Trinitatis, Neuruppin":geo:12.809782,52.922679
GEO:12.809782;52.922679
SUMMARY:\"Gestirne\" - Chorkonzert zum Mitsingen
CLASS:PUBLIC
DESCRIPTION:Zum Sommerbeginn gestalten die 40 Sänger:innen des Singworksho
 ps ihr alljährliches Werkstattkonzert mit Werken aus vier Jahrhunderten s
 chönster Chormusik. Angela Postweiler (Berlin) leitet den Projektchor in 
 seinem fünften Jahr durch ein stimmungsvolles Programm zum Thema Gestirne
  – besungen werden verschiedenste Naturphänomene sowie auch die ganz gr
 oßen menschlichen Gefühle. Musikalisch spannt sich der Bogen von Werken 
 der Renaissance über Romantik bis hin zu modernen Arrangements und einem 
 eigens für den Projektchor komponierten Werk mit Neuruppin-Bezug. Abgerun
 det wird das Programm durch sphärische Saxophonklänge. Das Publikum ist\
 , wie jedes Jahr\, herzlich eingeladen\, die phänomenale Akustik der Klos
 terkirche auch beim gemeinsamen Singen zu genießen.\n\nKontakt:\n\nKMD Ma
 tthias Noack\nVirchowstr.  13\n16816 Neuruppin\nTelefon: +49 3391 405192\n
 Email: matthias.noack@gemeinsam.ekbo.de\n\nWeitere Informationen zur Veran
 staltung: http://test.reiseregion-flaeming.de/veranstaltung/ruppiner-seenl
 and/gestirne-chorkonzert-zum-mitsingen
CATEGORIES:Klassisches Konzert / Oper
DTSTAMP:20260421T212510Z
END:VEVENT
END:VCALENDAR