BEGIN:VCALENDAR
VERSION:2.0
PRODID:test.reiseregion-flaeming.de
BEGIN:VEVENT
UID:69e4addba145c
DTSTART:20260531T080000Z
SEQUENCE:0
TRANSP:OPAQUE
DTEND:20260531T090000Z
URL:http://test.reiseregion-flaeming.de/veranstaltung/seenland-oder-spree/k
 antatengottesdienst
LOCATION:St.-Gertraud-Kirche Frankfurt (Oder)\, Gertraudenplatz 6\, 15230 F
 rankfurt (Oder)
X-APPLE-STRUCTURED-LOCATION;VALUE=URI;X-ADDRESS="St.-Gertraud-Kirche Frankf
 urt (Oder), Gertraudenplatz 6, 15230 Frankfurt (Oder)";X-APPLE-RADIUS=49;X
 -TITLE=St.-Gertraud-Kirche Frankfurt (Oder):geo:14.553215,52.338570
GEO:14.553215;52.338570
SUMMARY:Kantatengottesdienst
CLASS:PUBLIC
DESCRIPTION:Johann Sebastian Bach                              \nKantate BW
 V 72 – Alles nur nach Gottes Willen  \nSolisten\, Frankfurter Ökumenisc
 he Kantorei und das Kantatenorchester  \nLeitung: KMD Stephan Hardt\n\nKon
 takt:\n\nKirchenmusik\nBerendsstr. 1\n15232 Frankfurt (Oder)\nTelefon: +49
  335 54 54 00\nEmail: hardt@kirchenmusik-ffo.de\nWebseite: https://www.kir
 chenmusik-ffo.de\n\nWeitere Informationen zur Veranstaltung: http://test.r
 eiseregion-flaeming.de/veranstaltung/seenland-oder-spree/kantatengottesdie
 nst
CATEGORIES:Klassisches Konzert / Oper
DTSTAMP:20260419T102635Z
END:VEVENT
END:VCALENDAR