BEGIN:VCALENDAR
VERSION:2.0
PRODID:test.reiseregion-flaeming.de
BEGIN:VEVENT
UID:69e4addaa1430
DTSTART:20260522T173000Z
SEQUENCE:0
TRANSP:OPAQUE
DTEND:20260522T183000Z
URL:http://test.reiseregion-flaeming.de/veranstaltung/seenland-oder-spree/j
 ubilaeumskonzert-2026-hermann-naehring-und-friends
LOCATION:St.-Gertraud-Kirche Frankfurt (Oder)\, Gertraudenplatz 6\, 15230 F
 rankfurt (Oder)
X-APPLE-STRUCTURED-LOCATION;VALUE=URI;X-ADDRESS="St.-Gertraud-Kirche Frankf
 urt (Oder), Gertraudenplatz 6, 15230 Frankfurt (Oder)";X-APPLE-RADIUS=49;X
 -TITLE=St.-Gertraud-Kirche Frankfurt (Oder):geo:14.553215,52.338570
GEO:14.553215;52.338570
SUMMARY:Jubiläumskonzert 2026: Hermann Naehring und Friends
CLASS:PUBLIC
DESCRIPTION:Percussion\, Improvisation\, Rhythmus\n\nKontakt:\n\nKirchenmus
 ik\nBerendsstr. 1\n15232 Frankfurt (Oder)\nTelefon: +49 335 54 54 00\nEmai
 l: hardt@kirchenmusik-ffo.de\nWebseite: https://www.kirchenmusik-ffo.de\n\
 nWeitere Informationen zur Veranstaltung: http://test.reiseregion-flaeming
 .de/veranstaltung/seenland-oder-spree/jubilaeumskonzert-2026-hermann-naehr
 ing-und-friends
CATEGORIES:Rock / Pop / Jazz
DTSTAMP:20260419T102634Z
END:VEVENT
END:VCALENDAR