BEGIN:VCALENDAR
VERSION:2.0
PRODID:test.reiseregion-flaeming.de
BEGIN:VEVENT
UID:69e7b1c29057f
DTSTART:20260521T150000Z
SEQUENCE:0
TRANSP:OPAQUE
DTEND:20260521T163000Z
URL:http://test.reiseregion-flaeming.de/veranstaltung/seenland-oder-spree/s
 chutztruppe-der-republik-das-reichsbanner-schwarz-rot-gold-in-berlin-und-b
 randenburg-1924-bis-1933
LOCATION:VHS Volkshochschule Frankfurt (Oder)\, Gartenstr. 1\, 15230 Frankf
 urt (Oder)
X-APPLE-STRUCTURED-LOCATION;VALUE=URI;X-ADDRESS="VHS Volkshochschule Frankf
 urt (Oder), Gartenstr. 1, 15230 Frankfurt (Oder)";X-APPLE-RADIUS=49;X-TITL
 E=VHS Volkshochschule Frankfurt (Oder):geo:14.554021,52.340085
GEO:14.554021;52.340085
SUMMARY:Schutztruppe der Republik - das Reichsbanner Schwarz-Rot-Gold in Be
 rlin und Brandenburg 1924 bis 1933
CLASS:PUBLIC
DESCRIPTION:Autorenlesung & Gespräch in Kooperation mit der Gedenk- und Do
 kumentationsstätte\n\nMit der Darstellung des Kampfes der Republikschutzt
 ruppe Reichsbanner Schwarz-Rot-Gold im Raum Berlin-Brandenburg würdigt Ha
 ns-Rainer Sandvoß den Einsatz von über 20 000 Menschen\, die zwischen 19
 24 und 1933 Gesundheit und Leben für den Erhalt der ersten deutschen Demo
 kratie riskierten. Der Autor schildert Erfolge und Probleme dieser zu Unre
 cht vergessenen Organisation\, die das Vorurteil widerlegt\, die Weimarer 
 Republik sei eine Republik ohne Republikaner gewesen. Aus verschiedenen Bl
 ickwinkeln – historischen Berichten\, Zeitzeugenerinnerungen\, Gerichtsd
 okumenten und Zeitungsaussagen – entsteht ein authentisches Bild der dam
 aligen Ereignisse. Die Gegensätze von städtischem und ländlichem Milieu
 \, großagrarischen Interessen und Landarbeiternot sowie die Schwierigkeit
 \, demokratische Vielfalt gegen den politischen Terror militanter Republik
 feinde durchzusetzen\, zwangen dem Reichsbanner einen aufreibenden „Mehr
 frontenkrieg“ auf.\n\nVHS\, Raum 1.07 (Haus 1)\n\nKontakt:\n\nVHS Volksh
 ochschule Frankfurt (Oder)\nGartenstr. 1\n15230 Frankfurt (Oder)\nTelefon:
  +49 335 542025\nEmail: info@vhs-ffo.de\nWebseite: https://www.vhs-frankfu
 rt-oder.de/\n\nWeitere Informationen zur Veranstaltung: http://test.reiser
 egion-flaeming.de/veranstaltung/seenland-oder-spree/schutztruppe-der-repub
 lik-das-reichsbanner-schwarz-rot-gold-in-berlin-und-brandenburg-1924-bis-1
 933
CATEGORIES:Lesung / Vortrag
DTSTAMP:20260421T172002Z
END:VEVENT
END:VCALENDAR