BEGIN:VCALENDAR
VERSION:2.0
PRODID:test.reiseregion-flaeming.de
BEGIN:VEVENT
UID:69e7c2d50be31
DTSTART:20260531T090000Z
SEQUENCE:0
TRANSP:OPAQUE
DTEND:20260531T100000Z
URL:http://test.reiseregion-flaeming.de/veranstaltung/seenland-oder-spree/m
 atinee-fuehrung-in-aufnahmezustand-sammlungszugaenge-aus-den-jahren-2021-2
 025
LOCATION:Brandenburgisches Landesmuseum für moderne Kunst\, Rathaushalle\,
  Marktplatz 1\, 15230 Frankfurt (Oder)
X-APPLE-STRUCTURED-LOCATION;VALUE=URI;X-ADDRESS="Brandenburgisches Landesmu
 seum für moderne Kunst, Rathaushalle, Marktplatz 1, 15230 Frankfurt (Oder
 )";X-APPLE-RADIUS=49;X-TITLE="Brandenburgisches Landesmuseum für moderne 
 Kunst, Rathaushalle":geo:14.554274,52.344211
GEO:14.554274;52.344211
SUMMARY:Matinee-Führung in: Aufnahmezustand. Sammlungszugänge aus den Jah
 ren 2021-2025
CLASS:PUBLIC
DESCRIPTION:Die Doppelausstellung „Aufnahmezustand“ in Frankfurt (Oder)
  und Cottbus konstelliert Werkgruppen quer durch alle Ausdrucksformen der 
 bildenden Kunst\, der Fotografie und Plakatkunst\, die in den letzten fün
 f Jahren durch Schenkung oder Ankauf für die Sammlung des BLMK gewonnen w
 erden konnten.\n\nFührung mit Johanna Huthmacher\n\nKontakt:\n\nBrandenbu
 rgisches Landesmuseum für moderne Kunst\nCarl-Philipp-Emanuel-Bach-Straß
 e 11\n15230 Frankfurt (Oder)\nTelefon: +49 335 4015629\nEmail: info-ffo@bl
 mk.de\nWebseite: https://www.blmk.de\n\nWeitere Informationen zur Veransta
 ltung: http://test.reiseregion-flaeming.de/veranstaltung/seenland-oder-spr
 ee/matinee-fuehrung-in-aufnahmezustand-sammlungszugaenge-aus-den-jahren-20
 21-2025
CATEGORIES:Ausstellung,Führung / Besichtigung
DTSTAMP:20260421T183253Z
END:VEVENT
END:VCALENDAR