BEGIN:VCALENDAR
VERSION:2.0
PRODID:test.reiseregion-flaeming.de
BEGIN:VEVENT
UID:69e782be3022b
DTSTART:20260521T153000Z
SEQUENCE:0
TRANSP:OPAQUE
DTEND:20260521T173000Z
URL:http://test.reiseregion-flaeming.de/veranstaltung/seenland-oder-spree/a
 bendkurs-das-zeichnen-von-augen
LOCATION:Brandenburgisches Landesmuseum für moderne Kunst\, Packhof\, Carl
 -Philipp-Emanuel-Bach-Straße 11\, 15230 Frankfurt (Oder)
X-APPLE-STRUCTURED-LOCATION;VALUE=URI;X-ADDRESS="Brandenburgisches Landesmu
 seum für moderne Kunst, Packhof, Carl-Philipp-Emanuel-Bach-Straße 11, 15
 230 Frankfurt (Oder)";X-APPLE-RADIUS=49;X-TITLE="Brandenburgisches Landesm
 useum für moderne Kunst, Packhof":geo:14.556281,52.345104
GEO:14.556281;52.345104
SUMMARY:Abendkurs: Das Zeichnen von Augen
CLASS:PUBLIC
DESCRIPTION:Augen faszinieren nicht nur Künstler*innen. Sie fungieren auch
  nicht nur als Sinnesorgan\, sondern geben auch tiefe Einblicke in unsere 
 Emotionen und zwischenmenschlichen Beziehungen. Ausdrucksstarke Augen zu z
 eichnen ist zudem ein entscheidendes Thema für jeden\, der sich mit dem T
 hema Portrait beschäftigt. Kim La Fleur Karge zeigt euch mit gemeinsamen 
 Übungen wie ihr z. B. Phantasie-Augen\, Augen in Groß oder in Farbe zeic
 hnen könnt. Dabei habt ihr die Wahl mit Blei- und Buntstiften sowie Kugel
 schreibern\, Kohle und Aquarell zu arbeiten.\n\nLeitung: Kim La Fleur Karg
 e  \nKurs für Jugendliche\, Anfänger*innen und Fortgeschrittene\n\nAnmel
 dung bis zum 19.5.26 und weitere Informationen  \nJette Panzer Kunstvermit
 tlung Frankfurt (Oder)  \nkunstvermittlung.frankfurt@blmk.de  \nTelefon +4
 9 335 28395912\n\nKontakt:\n\nBrandenburgisches Landesmuseum für moderne 
 Kunst\nCarl-Philipp-Emanuel-Bach-Straße 11\n15230 Frankfurt (Oder)\nTelef
 on: +49 335 4015629\nEmail: info-ffo@blmk.de\nWebseite: https://www.blmk.d
 e\n\nWeitere Informationen zur Veranstaltung: http://test.reiseregion-flae
 ming.de/veranstaltung/seenland-oder-spree/abendkurs-das-zeichnen-von-augen
CATEGORIES:Workshop / Seminar
DTSTAMP:20260421T135926Z
END:VEVENT
END:VCALENDAR