BEGIN:VCALENDAR
VERSION:2.0
PRODID:test.reiseregion-flaeming.de
BEGIN:VEVENT
UID:69e7c2775a369
DTSTART:20260510T130000Z
SEQUENCE:0
TRANSP:OPAQUE
DTEND:20260510T143000Z
URL:http://test.reiseregion-flaeming.de/veranstaltung/seenland-oder-spree/f
 amilienbande-kunstbingo-4-plus
LOCATION:Brandenburgisches Landesmuseum für moderne Kunst\, Rathaushalle\,
  Marktplatz 1\, 15230 Frankfurt (Oder)
X-APPLE-STRUCTURED-LOCATION;VALUE=URI;X-ADDRESS="Brandenburgisches Landesmu
 seum für moderne Kunst, Rathaushalle, Marktplatz 1, 15230 Frankfurt (Oder
 )";X-APPLE-RADIUS=49;X-TITLE="Brandenburgisches Landesmuseum für moderne 
 Kunst, Rathaushalle":geo:14.554274,52.344211
GEO:14.554274;52.344211
SUMMARY:Familienbande: KunstBingo (4+)
CLASS:PUBLIC
DESCRIPTION:Begebt euch gemeinsam mit uns und euren Geschwistern\, Eltern\,
  Großeltern und Freund*innen einmal im Monat auf eine interaktive Entdeck
 ertour durchs Kunstmuseum. Haben alle genug gesehen\, bieten unsere Atelie
 rräume Möglichkeiten\, das Erlebte umgeben von Originalen in die Praxis 
 umzusetzen. Dabei gleicht kein Termin dem anderen und wir probieren immer 
 wieder neue Techniken und Materialien sowie Anregungen für zu Hause aus. 
 Darüber hinaus bieten wir immer wieder spezielle Kurse\, wie etwa den Mut
 ter-Tochter-Workshop nur für Familien an.\n\nUm die Ecke gedacht: Schaut 
 genau hin und findet die passenden Kunstwerke! Nachdem ihr mit Hilfe des K
 unst-Bingos viele kreative Eindrücke sammeln konntet\, werden wir anschli
 eßend mit Hilfe eines Spiels selbst künstlerisch produktiv.\n\nAnmeldung
  bis zum 7.5.26 und weitere Informationen:  \nJette Panzer Kunstvermittlun
 g Frankfurt (Oder)  \nkunstvermittlung.frankfurt@blmk.de  \nTelefon +49 33
 5 28395912\n\nKontakt:\n\nBrandenburgisches Landesmuseum für moderne Kuns
 t\nCarl-Philipp-Emanuel-Bach-Straße 11\n15230 Frankfurt (Oder)\nTelefon: 
 +49 335 4015629\nEmail: info-ffo@blmk.de\nWebseite: https://www.blmk.de\n\
 nWeitere Informationen zur Veranstaltung: http://test.reiseregion-flaeming
 .de/veranstaltung/seenland-oder-spree/familienbande-kunstbingo-4-plus
CATEGORIES:Ausstellung,Workshop / Seminar,Führung / Besichtigung
DTSTAMP:20260421T183119Z
END:VEVENT
END:VCALENDAR