BEGIN:VCALENDAR
VERSION:2.0
PRODID:test.reiseregion-flaeming.de
BEGIN:VEVENT
UID:69e7c2e6d4770
DTSTART:20260510T080000Z
SEQUENCE:0
TRANSP:OPAQUE
DTEND:20260510T140000Z
URL:http://test.reiseregion-flaeming.de/veranstaltung/seenland-oder-spree/w
 ochenend-workshop-untypisch-portraits-in-ungewoehnlichen-farbfamilien-und-
 formen
LOCATION:Brandenburgisches Landesmuseum für moderne Kunst\, Rathaushalle\,
  Marktplatz 1\, 15230 Frankfurt (Oder)
X-APPLE-STRUCTURED-LOCATION;VALUE=URI;X-ADDRESS="Brandenburgisches Landesmu
 seum für moderne Kunst, Rathaushalle, Marktplatz 1, 15230 Frankfurt (Oder
 )";X-APPLE-RADIUS=49;X-TITLE="Brandenburgisches Landesmuseum für moderne 
 Kunst, Rathaushalle":geo:14.554274,52.344211
GEO:14.554274;52.344211
SUMMARY:Wochenend-Workshop: Untypisch. Portraits in ungewöhnlichen Farbfam
 ilien und Formen
CLASS:PUBLIC
DESCRIPTION:Portraits in ungewöhnlichen Farbfamilien sind ein faszinierend
 es Experiment\, bei dem sich die Wirkung eines Werkes nicht nur stark ver
 ändert\, sondern je nach Farbund Technikwahl eine neue Dimension des Ausd
 rucks entsteht. Angeleitet von Paulina Scheel haben alle Kursteilnehmer*in
 nen die Möglichkeit eine kleine Portraitserie zu gestalten\, nachdem zuvo
 r eine Portraitvorlage erstellt wurde. Durch ein Variieren verschiedener F
 arben und Techniken entstehen bei ein und derselben Vorlage immer wieder n
 eue Eindrücke und Wirkungen. Senden Sie uns zusammen mit ihrer Mail-Anmel
 dung ein Foto zu\, das als ausgedruckte Vorlage dienen kann!\n\nAnmeldung 
 bis zum 30.4.26 und weitere Informationen:  \nJette Panzer Kunstvermittlun
 g Frankfurt (Oder)  \nkunstvermittlung.frankfurt@blmk.de  \nTelefon +49 33
 5 28395912\n\nKontakt:\n\nBrandenburgisches Landesmuseum für moderne Kuns
 t\nCarl-Philipp-Emanuel-Bach-Straße 11\n15230 Frankfurt (Oder)\nTelefon: 
 +49 335 4015629\nEmail: info-ffo@blmk.de\nWebseite: https://www.blmk.de\n\
 nWeitere Informationen zur Veranstaltung: http://test.reiseregion-flaeming
 .de/veranstaltung/seenland-oder-spree/wochenend-workshop-untypisch-portrai
 ts-in-ungewoehnlichen-farbfamilien-und-formen
CATEGORIES:Workshop / Seminar
DTSTAMP:20260421T183311Z
END:VEVENT
END:VCALENDAR