BEGIN:VCALENDAR
VERSION:2.0
PRODID:test.reiseregion-flaeming.de
BEGIN:VEVENT
UID:69e79dab27e66
DTSTART:20260711T100000Z
SEQUENCE:0
TRANSP:OPAQUE
DTEND:20260711T120000Z
URL:http://test.reiseregion-flaeming.de/veranstaltung/lausitzer-seenland/zw
 ei-jahre-arche-am-baerwalder-see
LOCATION:Restaurant Arche\, Am Hafen 5\, 02943 Boxberg
X-APPLE-STRUCTURED-LOCATION;VALUE=URI;X-ADDRESS="Restaurant Arche, Am Hafen
  5, 02943 Boxberg";X-APPLE-RADIUS=49;X-TITLE=Restaurant Arche:geo:14.58089
 1,51.402324
GEO:14.580891;51.402324
SUMMARY:Zwei Jahre  Arche am Bärwalder See
CLASS:PUBLIC
DESCRIPTION:Wir feiern 2 Jahre Restaurant Arche am Bärwalder See! \n\nSeit
  zwei Jahren sind wir euer Heimathafen für guten Geschmack - und das woll
 en wir gebührend mit euch feiern! Kommt an Bord und genießt unser große
 s Jubiläums-Lunch-Grill-Buffet.\n\nKontakt:\n\nRestaurant Arche\nAm Hafen
   5\n02943 Boxberg\nTelefon: +49 35895 566484\nEmail: kontakt@arche-restau
 rant.de\nWebseite: https://arche-restaurant.de/\n\nWeitere Informationen z
 ur Veranstaltung: http://test.reiseregion-flaeming.de/veranstaltung/lausit
 zer-seenland/zwei-jahre-arche-am-baerwalder-see
CATEGORIES:Essen und Trinken
DTSTAMP:20260421T155419Z
END:VEVENT
END:VCALENDAR