BEGIN:VCALENDAR
VERSION:2.0
PRODID:test.reiseregion-flaeming.de
BEGIN:VEVENT
UID:69e7c328337bf
DTSTART:20260506T100000Z
SEQUENCE:0
TRANSP:OPAQUE
DTEND:20260506T110000Z
URL:http://test.reiseregion-flaeming.de/veranstaltung/seenland-oder-spree/m
 ittagspausenfuehrung-in-aufnahmezustand-sammlungszugaenge-aus-den-jahren-2
 021-2025
LOCATION:Brandenburgisches Landesmuseum für moderne Kunst\, Rathaushalle\,
  Marktplatz 1\, 15230 Frankfurt (Oder)
X-APPLE-STRUCTURED-LOCATION;VALUE=URI;X-ADDRESS="Brandenburgisches Landesmu
 seum für moderne Kunst, Rathaushalle, Marktplatz 1, 15230 Frankfurt (Oder
 )";X-APPLE-RADIUS=49;X-TITLE="Brandenburgisches Landesmuseum für moderne 
 Kunst, Rathaushalle":geo:14.554274,52.344211
GEO:14.554274;52.344211
SUMMARY:Mittagspausenführung in: Aufnahmezustand. Sammlungszugänge aus de
 n Jahren 2021-2025
CLASS:PUBLIC
DESCRIPTION:Die Doppelausstellung „Aufnahmezustand“ in Frankfurt (Oder)
  und Cottbus konstelliert Werkgruppen quer durch alle Ausdrucksformen der 
 bildenden Kunst\, der Fotografie und Plakatkunst\, die in den letzten fün
 f Jahren durch Schenkung oder Ankauf für die Sammlung des BLMK gewonnen w
 erden konnten.\n\nAnmeldung bis 4.5.26 erforderlich:  \nJette Panzer Kunst
 vermittlung Frankfurt (Oder)  \nkunstvermittlung.frankfurt@blmk.de  \nTele
 fon +49 335 28395912\n\nKontakt:\n\nBrandenburgisches Landesmuseum für mo
 derne Kunst\nCarl-Philipp-Emanuel-Bach-Straße 11\n15230 Frankfurt (Oder)\
 nTelefon: +49 335 4015629\nEmail: info-ffo@blmk.de\nWebseite: https://www.
 blmk.de\n\nWeitere Informationen zur Veranstaltung: http://test.reiseregio
 n-flaeming.de/veranstaltung/seenland-oder-spree/mittagspausenfuehrung-in-a
 ufnahmezustand-sammlungszugaenge-aus-den-jahren-2021-2025
CATEGORIES:Ausstellung,Führung / Besichtigung
DTSTAMP:20260421T183416Z
END:VEVENT
END:VCALENDAR