BEGIN:VCALENDAR
VERSION:2.0
PRODID:test.reiseregion-flaeming.de
BEGIN:VEVENT
UID:69e4e3e0135eb
DTSTART:20260510T130000Z
SEQUENCE:0
TRANSP:OPAQUE
DTEND:20260510T150000Z
URL:http://test.reiseregion-flaeming.de/veranstaltung/lausitzer-seenland/mu
 ttertags-vesper
LOCATION:Restaurant Arche\, Am Hafen 5\, 02943 Boxberg
X-APPLE-STRUCTURED-LOCATION;VALUE=URI;X-ADDRESS="Restaurant Arche, Am Hafen
  5, 02943 Boxberg";X-APPLE-RADIUS=49;X-TITLE=Restaurant Arche:geo:14.58089
 1,51.402324
GEO:14.580891;51.402324
SUMMARY:Muttertags - Vesper
CLASS:PUBLIC
DESCRIPTION:Ein Hoch auf Mama!\n\nNach dem essen ist vor dem Genuss. Lassen
  wir den Nachmittag stilvoll ausklingen - mit allem\, was das Herz begehrt
 :\n\nTorte\, Pralinen\, Sekt und Kaffee...\n\nKontakt:\n\nRestaurant Arche
 \nAm Hafen  5\n02943 Boxberg\nTelefon: +49 35895 566484\nEmail: kontakt@ar
 che-restaurant.de\nWebseite: https://arche-restaurant.de/\n\nWeitere Infor
 mationen zur Veranstaltung: http://test.reiseregion-flaeming.de/veranstalt
 ung/lausitzer-seenland/muttertags-vesper
CATEGORIES:Essen und Trinken
DTSTAMP:20260419T141704Z
END:VEVENT
END:VCALENDAR