BEGIN:VCALENDAR
VERSION:2.0
PRODID:test.reiseregion-flaeming.de
BEGIN:VEVENT
UID:69e783c08ca77
DTSTART:20260510T090000Z
SEQUENCE:0
TRANSP:OPAQUE
DTEND:20260510T110000Z
URL:http://test.reiseregion-flaeming.de/veranstaltung/seenland-oder-spree/a
 usstellungseroeffnung-joachim-voelkner-im-wachen-traeumen
LOCATION:Brandenburgisches Landesmuseum für moderne Kunst\, Packhof\, Carl
 -Philipp-Emanuel-Bach-Straße 11\, 15230 Frankfurt (Oder)
X-APPLE-STRUCTURED-LOCATION;VALUE=URI;X-ADDRESS="Brandenburgisches Landesmu
 seum für moderne Kunst, Packhof, Carl-Philipp-Emanuel-Bach-Straße 11, 15
 230 Frankfurt (Oder)";X-APPLE-RADIUS=49;X-TITLE="Brandenburgisches Landesm
 useum für moderne Kunst, Packhof":geo:14.556281,52.345104
GEO:14.556281;52.345104
SUMMARY:Ausstellungseröffnung: Joachim Völkner. Im Wachen träumen
CLASS:PUBLIC
DESCRIPTION:Im Zentrum der Schau stehen Joachim Völkners in den späten 19
 70er Jahren entstandenen Kinderbilder\, die im Anschluss an seine Tätigke
 it als Kindergartenhelfer entstanden sind.\n\nAusstellungseröffnung am 10
 .05.2026:  \n11:00 – 13:00 Uhr freier Eintritt zur Ausstellung  \n11:30 
 Uhr Begrüßung  \nUlrike Kremeier Direktorin\, BLMK  \nEinführung  \nLin
 n Kroneck Kustodin Sammlung Malerei\, Handzeichnung\n\nKontakt:\n\nBranden
 burgisches Landesmuseum für moderne Kunst\nCarl-Philipp-Emanuel-Bach-Stra
 ße 11\n15230 Frankfurt (Oder)\nTelefon: +49 335 4015629\nEmail: info-ffo@
 blmk.de\nWebseite: https://www.blmk.de\n\nWeitere Informationen zur Verans
 taltung: http://test.reiseregion-flaeming.de/veranstaltung/seenland-oder-s
 pree/ausstellungseroeffnung-joachim-voelkner-im-wachen-traeumen
CATEGORIES:Ausstellung
DTSTAMP:20260421T140344Z
END:VEVENT
END:VCALENDAR