BEGIN:VCALENDAR
VERSION:2.0
PRODID:test.reiseregion-flaeming.de
BEGIN:VEVENT
UID:69e4ec3feabd8
DTSTART:20260520T143000Z
SEQUENCE:0
TRANSP:OPAQUE
DTEND:20260520T160000Z
URL:http://test.reiseregion-flaeming.de/veranstaltung/seenland-oder-spree/f
 riedhofsfluestern-wo-erinnerungen-lebendig-werden
LOCATION:Hauptfriedhof Frankfurt (Oder)\, Am Hauptfriedhof\, 15236 Frankfur
 t (Oder)
X-APPLE-STRUCTURED-LOCATION;VALUE=URI;X-ADDRESS="Hauptfriedhof Frankfurt (O
 der), Am Hauptfriedhof, 15236 Frankfurt (Oder)";X-APPLE-RADIUS=49;X-TITLE=
 Hauptfriedhof Frankfurt (Oder):geo:14.551632,52.342700
GEO:14.551632;52.342700
SUMMARY:Friedhofsflüstern. Wo Erinnerungen lebendig werden
CLASS:PUBLIC
DESCRIPTION:Spaziergang über den Hauptfriedhof\n\nDie Wichern Diakonie lä
 dt zum 3. Friedhofsflüstern\, einem geführten Spaziergang ein\, bei dem 
 man dieses Mal zum Thema Neubeginn ins Gespräch kommen kann. Im Haus AnDe
 nken finden alle Teilnehmenden gemeinsam den Abschluss.\n\nTreffpunkt am H
 aupteingang (Leipziger Str.)\, eine Anmeldung ist nicht notwendig.\n\nKont
 akt:\n\nWichern Diakonie\nLuisenstraße 21-24\n15230 Frankfurt (Oder)\nTel
 efon: +49 335 5556-709\nEmail: zithier@wichern-ffo.de\nWebseite: https://w
 ww.wichern-diakonie.de\n\nWeitere Informationen zur Veranstaltung: http://
 test.reiseregion-flaeming.de/veranstaltung/seenland-oder-spree/friedhofsfl
 uestern-wo-erinnerungen-lebendig-werden
CATEGORIES:Führung / Besichtigung
DTSTAMP:20260419T145247Z
END:VEVENT
END:VCALENDAR