BEGIN:VCALENDAR
VERSION:2.0
PRODID:test.reiseregion-flaeming.de
BEGIN:VEVENT
UID:69e4d66251898
DTSTART:20260502T113000Z
SEQUENCE:0
TRANSP:OPAQUE
DTEND:20260502T120000Z
URL:http://test.reiseregion-flaeming.de/veranstaltung/seenland-oder-spree/o
 ffene-ateliers-2026-eroeffnung
LOCATION:Haus der Künste\, Lindenstraße  5\, 15230 Frankfurt (Oder)
X-APPLE-STRUCTURED-LOCATION;VALUE=URI;X-ADDRESS="Haus der Künste, Lindenst
 raße  5, 15230 Frankfurt (Oder)";X-APPLE-RADIUS=49;X-TITLE=Haus der Küns
 te:geo:14.551723,52.340373
GEO:14.551723;52.340373
SUMMARY:Offene Ateliers 2026 - Eröffnung
CLASS:PUBLIC
DESCRIPTION:Am 2. und 3. Mai 2026 öffnen sowohl Frankfurter als auch Słub
 icer Künstlerinnen und Künstler ihre Ateliertüren und laden Kunstbegeis
 terte ein ihre Arbeit und die Kunstszene der Doppelstadt aus erster Hand k
 ennenzulernen.\n\nIn diesem Jahr beteiligen sich 28 Künstlerinnen und Kü
 nstler sowie sieben Gastkunstschaffende an der brandenburgweit durchgefüh
 rten Aktion und zeigen ihre Werke der Malerei\, Plastik\, Textil- und Klan
 gkunst in acht Ateliers\, zwei Gemeinschaftsausstellungen und drei Galerie
 n. Eröffnet wird die Veranstaltung am Samstag\, den 2. Mai 2026 ab 13.30 
 Uhr im Haus der Künste mit einem Grußwort des Oberbürgermeisters Dr. Ax
 el Strasser und musikalischer Umrahmung durch das Duo Pan-Doublets mit Kry
 stin Lange und Monika Leonhardt.\n\nDie Veranstaltung ist in Trägerschaft
  des BBK Brandenburg\, Berufsverband Bildender Künstler:innen Brandenburg
  e.V. und wird vom Kulturbüro Frankfurt (Oder) organisiert.\n\nKontakt:\n
 \nEigenbetrieb Kulturbetriebe\, Frankfurt (Oder)\, Kulturbüro\, Bildende 
 Kunst\nLindenstraße 7\n15230 Frankfurt (Oder)\nTelefon: +49 335 55378335\
 nEmail: Magdalena.Scherer@kultur-ffo.de\nWebseite: https://www.kultur-ffo.
 de/\n\nWeitere Informationen zur Veranstaltung: http://test.reiseregion-fl
 aeming.de/veranstaltung/seenland-oder-spree/offene-ateliers-2026-eroeffnun
 g
CATEGORIES:Klassisches Konzert / Oper,Ausstellung
DTSTAMP:20260419T131930Z
END:VEVENT
END:VCALENDAR