BEGIN:VCALENDAR
VERSION:2.0
PRODID:test.reiseregion-flaeming.de
BEGIN:VEVENT
UID:69e7982c15a29
DTSTART:20260529T173000Z
SEQUENCE:0
TRANSP:OPAQUE
DTEND:20260529T191500Z
URL:http://test.reiseregion-flaeming.de/veranstaltung/seenland-oder-spree/k
 leines-kino-stiller
LOCATION:CineStar\, Große Scharrnstraße 68-71\, 15230 Frankfurt (Oder)
X-APPLE-STRUCTURED-LOCATION;VALUE=URI;X-ADDRESS="CineStar, Große Scharrnst
 raße 68-71, 15230 Frankfurt (Oder)";X-APPLE-RADIUS=49;X-TITLE=CineStar:ge
 o:14.553374,52.343597
GEO:14.553374;52.343597
SUMMARY:Kleines Kino: Stiller
CLASS:PUBLIC
DESCRIPTION:CineStar-Kino Frankfurt (Oder)\, Große Scharrnstr. 68-71  \nRe
 gie: Stefan Haupt  \nLand: Deutschland / Schweiz  \nJahr: 2025  \nLaufzeit
 : 99 Minuten \n\n\"Ich bin nicht Stiller\"- der wichtigste Satz aus dem Ro
 man von Max Frisch. Doch wer ist dieser Amerikaner\, der in der Schweiz fe
 stgehalten wird\, weil er angeblich der seit Jahren verschwundene Anatol S
 tiller sei? Wunderbar Albrecht Schuch als Stiller und Paula Beer als desse
 n Frau Julika!\n\nKontakt:\n\nKleines Kino e.V.\nWarschauer Str. 16\n15234
  Frankfurt (Oder)\nTelefon: +49 335 64925\nEmail: info@kleines-kino.de\nWe
 bseite: https://kleines-kino.de\n\nWeitere Informationen zur Veranstaltung
 : http://test.reiseregion-flaeming.de/veranstaltung/seenland-oder-spree/kl
 eines-kino-stiller
CATEGORIES:Film
DTSTAMP:20260421T153052Z
END:VEVENT
END:VCALENDAR