BEGIN:VCALENDAR
VERSION:2.0
PRODID:test.reiseregion-flaeming.de
BEGIN:VEVENT
UID:69e7454c9b6cf
DTSTART:20260801T080000Z
SEQUENCE:0
TRANSP:OPAQUE
DTEND:20260801T160000Z
URL:http://test.reiseregion-flaeming.de/veranstaltung/lausitzer-seenland/ab
 enteuertag-natur
LOCATION:Krabat-Mühle\, Koselbruch 22\, 02977 Hoyerswerda
X-APPLE-STRUCTURED-LOCATION;VALUE=URI;X-ADDRESS="Krabat-Mühle, Koselbruch 
 22, 02977 Hoyerswerda";X-APPLE-RADIUS=49;X-TITLE=Krabat-Mühle:geo:14.1491
 61,51.428483
GEO:14.149161;51.428483
SUMMARY:Abenteuertag Natur
CLASS:PUBLIC
DESCRIPTION:Erlebt die Lausitzer Natur ganz aktiv und mit tollen Angeboten 
 bei uns an der KRABAT-Mühle.\n\nDas Programm und weitere Infos folgen in 
 Kürze.\n\nKontakt:\n\nKrabatmühle Schwarzkollm\nKoselbruch 22\n02977 Hoy
 erswerda\nTelefon: +49 35722 951133\nEmail: \n\nWeitere Informationen zur 
 Veranstaltung: http://test.reiseregion-flaeming.de/veranstaltung/lausitzer
 -seenland/abenteuertag-natur
CATEGORIES:Fest / Brauchtum,Kinder und Jugendliche
DTSTAMP:20260421T093717Z
END:VEVENT
BEGIN:VEVENT
UID:69e7454d52c29
DTSTART:20260802T080000Z
SEQUENCE:0
TRANSP:OPAQUE
DTEND:20260802T160000Z
URL:http://test.reiseregion-flaeming.de/veranstaltung/lausitzer-seenland/ab
 enteuertag-natur
LOCATION:Krabat-Mühle\, Koselbruch 22\, 02977 Hoyerswerda
X-APPLE-STRUCTURED-LOCATION;VALUE=URI;X-ADDRESS="Krabat-Mühle, Koselbruch 
 22, 02977 Hoyerswerda";X-APPLE-RADIUS=49;X-TITLE=Krabat-Mühle:geo:14.1491
 61,51.428483
GEO:14.149161;51.428483
SUMMARY:Abenteuertag Natur
CLASS:PUBLIC
DESCRIPTION:Erlebt die Lausitzer Natur ganz aktiv und mit tollen Angeboten 
 bei uns an der KRABAT-Mühle.\n\nDas Programm und weitere Infos folgen in 
 Kürze.\n\nKontakt:\n\nKrabatmühle Schwarzkollm\nKoselbruch 22\n02977 Hoy
 erswerda\nTelefon: +49 35722 951133\nEmail: \n\nWeitere Informationen zur 
 Veranstaltung: http://test.reiseregion-flaeming.de/veranstaltung/lausitzer
 -seenland/abenteuertag-natur
CATEGORIES:Fest / Brauchtum,Kinder und Jugendliche
DTSTAMP:20260421T093717Z
END:VEVENT
END:VCALENDAR