BEGIN:VCALENDAR
VERSION:2.0
PRODID:test.reiseregion-flaeming.de
BEGIN:VEVENT
UID:69e4e36edee33
DTSTART:20260430T160000Z
SEQUENCE:0
TRANSP:OPAQUE
DTEND:20260430T230000Z
URL:http://test.reiseregion-flaeming.de/veranstaltung/lausitzer-seenland/he
 xenbrennen-in-klein-oelsa-mit-umzug
LOCATION:Brennplatz Klein Oelsa\, Kirchweg Richtung Kaschel\, 02943 Boxberg
  OL
X-APPLE-STRUCTURED-LOCATION;VALUE=URI;X-ADDRESS="Brennplatz Klein Oelsa, Ki
 rchweg Richtung Kaschel, 02943 Boxberg OL";X-APPLE-RADIUS=49;X-TITLE=Brenn
 platz Klein Oelsa:geo:14.599436,51.350670
GEO:14.599436;51.350670
SUMMARY:Hexenbrennen in Klein-Oelsa mit Umzug
CLASS:PUBLIC
DESCRIPTION:Der Feuerwehrverein Klitten e.V. läd ein zum HEXENBRENNEN in K
 lein Oelsa! Start für den Umzug am Gasthof  \"Goldener Tropfen\" in Klitt
 en ist 18:00 Uhr. Das traditionelle Hexenfeuer auf dem Feld mit gebastelte
 n Hexen der Jugendfeuerwehr und anzünden des Haufens beginnt 19:00 Uhr.\n
 \n  * Gemütlichen Beisammensein für Groß und Klein mit vielen Gespräch
 en im Feuerschein\n  * leckeren Speisen vom Grill\n  * frischen Pommes\n  
 * kühlen Getränken\n  * extra Kinderlagerfeuer mit gratis Knüppelkuchen
 teig\n\n\n\nAnnahme von Brennmaterial: Freitag 24.04. von 14:00 bis 18:00 
 Uhr und Samstag 25.04. von 10:00 bis 18:00 Uhr\n\nKontakt:\n\nFeuerwehrver
 ein Klitten\nThomas Rehle\nStraße der Jugend  62 D\n02943 Boxberg OL\nTel
 efon: +49 35895 566181\nEmail: feuerwehr-klitten@t-online.de\n\nWeitere In
 formationen zur Veranstaltung: http://test.reiseregion-flaeming.de/veranst
 altung/lausitzer-seenland/hexenbrennen-in-klein-oelsa-mit-umzug
CATEGORIES:Fest / Brauchtum
DTSTAMP:20260419T141511Z
END:VEVENT
END:VCALENDAR