BEGIN:VCALENDAR
VERSION:2.0
PRODID:test.reiseregion-flaeming.de
BEGIN:VEVENT
UID:69e4d60e5a72f
DTSTART:20260524T090000Z
SEQUENCE:0
TRANSP:OPAQUE
DTEND:20260524T103000Z
URL:http://test.reiseregion-flaeming.de/veranstaltung/seenland-oder-spree/p
 remiere-huettenwerk
LOCATION:August-Bebel-Straße\, August-Bebel-Straße\, 15234 Frankfurt (Ode
 r)
X-APPLE-STRUCTURED-LOCATION;VALUE=URI;X-ADDRESS="August-Bebel-Straße, Augu
 st-Bebel-Straße, 15234 Frankfurt (Oder)";X-APPLE-RADIUS=49;X-TITLE=August
 -Bebel-Straße:geo:14.551632,52.342700
GEO:14.551632;52.342700
SUMMARY:Premiere: Hüttenwerk
CLASS:PUBLIC
DESCRIPTION:Eisenbahntheater über die Stahlindustrie  \n  \nDas Erz kam pe
 r Eisenbahn aus der kasachischen Steppe\, die Kohle aus Polen. Auf den Kr
 änen\, Lokomotiven und am Hochofen arbeiteten oft Frauen\, die für die S
 tahlindustrie der DDR unentbehrlich waren. Von Eisenhüttenstadt ging der 
 Stahl in die Fabriken und Häfen des Westens\, um gegen Devisen verkauft z
 u werden. Im Frühjahr 2026 fährt das Eisenbahntheater Das Letzte Kleinod
  mit sechsachsigen Flachwagen durch Deutschland. Der Zug ist beladen mit t
 onnenschweren Brammen\, Stahlträgern und Coils. Auf und in den Waggons gi
 bt das Eisenbahntheater HÜTTENWERK Einblick in die damalige Vorzeigeindus
 trie der DDR und die Verbindungen zum Westen. Zwanzig ehemalige Werktätig
 e berichteten für das dokumentarische Theaterstück von ihren Erfahrungen
  im Eisenhüttenkombinat Ost.   \n  \nKonzept/Regie: Jens-Erwin Siemssen  
 \nKostüme: Miriam Ebbing  \nMit: Kristina Günther\, Sophia Hahn\, Lisa I
 ndorf\, Anna Pasieka\, Jens-Uwe Richter\, Oliver Walter\, Margarita Wiesne
 r  \nDas Letzte Kleinod in Koproduktion mit dem Kleist Forum\n\nKontakt:\n
 \nKleist Forum\nPlatz der Einheit 1\n15230 Frankfurt (Oder)\nTelefon: +49 
 335 40 10-120\nEmail: ticket@muv-ffo.de\n\nWeitere Informationen zur Veran
 staltung: http://test.reiseregion-flaeming.de/veranstaltung/seenland-oder-
 spree/premiere-huettenwerk
CATEGORIES:Theater / Tanz / Kabarett
DTSTAMP:20260419T131806Z
END:VEVENT
END:VCALENDAR