BEGIN:VCALENDAR
VERSION:2.0
PRODID:test.reiseregion-flaeming.de
BEGIN:VEVENT
UID:69e77ca8074bc
DTSTART:20260517T080000Z
SEQUENCE:0
TRANSP:OPAQUE
DTEND:20260517T110000Z
URL:http://test.reiseregion-flaeming.de/veranstaltung/spreewald/naturkunde-
 fruehschoppen-auf-dem-spreeauenhof-in-dissen-strich-desno
LOCATION:Spreeauenhof\, Döbbricker Straße  1\, 03096 Dissen-Striesow
X-APPLE-STRUCTURED-LOCATION;VALUE=URI;X-ADDRESS="Spreeauenhof, Döbbricker 
 Straße  1, 03096 Dissen-Striesow";X-APPLE-RADIUS=49;X-TITLE=Spreeauenhof:
 geo:14.294002,51.826174
GEO:14.294002;51.826174
SUMMARY:Naturkunde-Frühschoppen auf dem Spreeauenhof in Dissen/Dešno
CLASS:PUBLIC
DESCRIPTION:Der Verein Naturkundezentrum Spreeaue e.V. lädt interessierte 
 Liebhaber\n\nund Freunde unserer Region zu kurzweiligen Veranstaltungen ru
 nd um die heimische Flora und Fauna ein. Wir beginnen mit einer Führung d
 urch unsere Storchenausstellung mit anschließendem kleinen Storchenrundga
 ng durch das Storchendorf. Danach schauen wir dem Imker über die Schulter
  um zu\n\nerfahren „Wie kommt der Honig ins Glas?“. Den Abschluss bild
 et eine Führung\n\nzur Renaturierung der Spreeaue sowie zur Streuobstwies
 e im Garten des\n\nSpreeauenhofes.\n\nKontakt:\n\nFred Kaiser\n\n \nTelefo
 n: +49 179 5344880\nEmail: \n\nWeitere Informationen zur Veranstaltung: ht
 tp://test.reiseregion-flaeming.de/veranstaltung/spreewald/naturkunde-frueh
 schoppen-auf-dem-spreeauenhof-in-dissen-strich-desno
CATEGORIES:Fest / Brauchtum,Essen und Trinken,Führung / Besichtigung
DTSTAMP:20260421T133328Z
END:VEVENT
END:VCALENDAR