BEGIN:VCALENDAR
VERSION:2.0
PRODID:test.reiseregion-flaeming.de
BEGIN:VEVENT
UID:69e4e3c192fe2
DTSTART:20260829T100000Z
SEQUENCE:0
TRANSP:OPAQUE
DTEND:20260829T210000Z
URL:http://test.reiseregion-flaeming.de/veranstaltung/lausitzer-seenland/we
 ttkampf-jugendfeuerwehr-mit-tag-der-offenen-tuer
LOCATION:Freiwillige Feuerwehr Klitten\, Straße der Jugend 62 D\, 02943 Bo
 xberg OL
X-APPLE-STRUCTURED-LOCATION;VALUE=URI;X-ADDRESS="Freiwillige Feuerwehr Klit
 ten, Straße der Jugend 62 D, 02943 Boxberg OL";X-APPLE-RADIUS=49;X-TITLE=
 Freiwillige Feuerwehr Klitten:geo:14.599436,51.350670
GEO:14.599436;51.350670
SUMMARY:Wettkampf Jugendfeuerwehr mit Tag der offenen Tür
CLASS:PUBLIC
DESCRIPTION:Wettkampf Jugendfeuerwehr mit Tag der offenen Tür in Klitten. 
 was wird geboten:\n\n  * Action\n  * Vorführungen\n  * Spaß für die gan
 ze Familie\n  * Abends Tanz\n\n\n\nFür Speis und Trank ist bestens gesorg
 t!\n\nKontakt:\n\nFreiwillige Feuerwehr Klitten\nThomas Rehle\nStraße der
  Jugend 62 D\n02943 Boxberg OL\nTelefon: +49 35893 566181\nEmail: FF-Klitt
 en@boxberg-ol.de\n\nWeitere Informationen zur Veranstaltung: http://test.r
 eiseregion-flaeming.de/veranstaltung/lausitzer-seenland/wettkampf-jugendfe
 uerwehr-mit-tag-der-offenen-tuer
CATEGORIES:Fest / Brauchtum
DTSTAMP:20260419T141633Z
END:VEVENT
END:VCALENDAR