BEGIN:VCALENDAR
VERSION:2.0
PRODID:test.reiseregion-flaeming.de
BEGIN:VEVENT
UID:69e4d7570b85c
DTSTART:20260516T110000Z
SEQUENCE:0
TRANSP:OPAQUE
DTEND:20260516T150000Z
URL:http://test.reiseregion-flaeming.de/veranstaltung/seenland-oder-spree/s
 oil-to-sour-workshop-fermentieren-und-einlegen-im-feld-mit-studio-schmaus
LOCATION:Plantage\, Müllroser Chaussee 76c\, 15236 Frankfurt (Oder)
X-APPLE-STRUCTURED-LOCATION;VALUE=URI;X-ADDRESS="Plantage, Müllroser Chaus
 see 76c, 15236 Frankfurt (Oder)";X-APPLE-RADIUS=49;X-TITLE=Plantage:geo:14
 .551632,52.342700
GEO:14.551632;52.342700
SUMMARY:Soil to sour - Workshop: Fermentieren & Einlegen im Feld mit Studio
  Schmaus
CLASS:PUBLIC
DESCRIPTION:An diesem Nachmittag verbinden wir Feld und Küche. Judith von 
 PlantAge führt uns über die Gemüsebeete der Genossenschaft\, wir ernten
  frische saisonale Zutaten direkt vom Feld und lernen dabei\, was dieses G
 emüse so besonders macht.\n\nIm Anschluss tauchen wir in die Welt der Hal
 tbarmachung ein. Alan und Amelie von Studio Schmaus führen dich ein in di
 e Grundlagen der Konservierung von saisonalen Lebensmitteln durch Fermenti
 eren und Einlegen. Schritt für Schritt stellst du deine eigenen Pickles u
 nd Fermente her\, die du am Ende natürlich mit nach Hause nehmen kannst.\
 n\nZwischendurch gibt es leckere Snacks aus dem kulinarischen Studio und n
 atürlich Zeit für Austausch und Kennenlernen. Das alles findet in der fr
 eien Natur auf den Feldern der Solawi statt. Bei Regen weichen wir in die 
 geschützten Bereiche im Gewächshaus und Gemeinschaftszelt aus.\n\nKontak
 t:\n\nPlantage\nMüllroser Chaussee 76c\n15236 Frankfurt (Oder)\nTelefon: 
 \nEmail: info@plantage.farm\nWebseite: https://www.plantage.farm\n\nWeiter
 e Informationen zur Veranstaltung: http://test.reiseregion-flaeming.de/ver
 anstaltung/seenland-oder-spree/soil-to-sour-workshop-fermentieren-und-einl
 egen-im-feld-mit-studio-schmaus
CATEGORIES:Workshop / Seminar
DTSTAMP:20260419T132335Z
END:VEVENT
END:VCALENDAR