BEGIN:VCALENDAR
VERSION:2.0
PRODID:test.reiseregion-flaeming.de
BEGIN:VEVENT
UID:69e747d14fbee
DTSTART:20261107T180000Z
SEQUENCE:0
TRANSP:OPAQUE
DTEND:20261107T200000Z
URL:http://test.reiseregion-flaeming.de/veranstaltung/seenland-oder-spree/z
 u-2-gehts-besser-konzert-parents-und-friends
LOCATION:Stadtkirche Seelow\, Berlinerstr. 5\, 15306 Seelow (Seenland Oder-
 Spree)
X-APPLE-STRUCTURED-LOCATION;VALUE=URI;X-ADDRESS="Stadtkirche Seelow, Berlin
 erstr. 5, 15306 Seelow (Seenland Oder-Spree)";X-APPLE-RADIUS=49;X-TITLE=St
 adtkirche Seelow:geo:14.379920,52.533701
GEO:14.379920;52.533701
SUMMARY:\"Zu 2 geht's besser \" Konzert Parents & Friends
CLASS:PUBLIC
DESCRIPTION:\n\nKontakt:\n\nStadtkirche Seelow\nBerlinerstr. 5\n15306 Seelo
 w (Seenland Oder-Spree)\nTelefon: \nEmail: \n\nWeitere Informationen zur V
 eranstaltung: http://test.reiseregion-flaeming.de/veranstaltung/seenland-o
 der-spree/zu-2-gehts-besser-konzert-parents-und-friends
CATEGORIES:Chor / Folklore / Volksmusik
DTSTAMP:20260421T094801Z
END:VEVENT
END:VCALENDAR