BEGIN:VCALENDAR
VERSION:2.0
PRODID:test.reiseregion-flaeming.de
BEGIN:VEVENT
UID:69e77caf35e22
DTSTART:20260328T090000Z
SEQUENCE:0
TRANSP:OPAQUE
DTEND:20260531T133000Z
URL:http://test.reiseregion-flaeming.de/veranstaltung/barnimer-land/wanderu
 ng-am-wochenende
LOCATION:Kanu-Verleih Oderberg\, Hermann-Seidel-Straße 62\, 16248 Oderberg
X-APPLE-STRUCTURED-LOCATION;VALUE=URI;X-ADDRESS="Kanu-Verleih Oderberg, Her
 mann-Seidel-Straße 62, 16248 Oderberg";X-APPLE-RADIUS=49;X-TITLE=Kanu-Ver
 leih Oderberg:geo:14.046434,52.864183
GEO:14.046434;52.864183
SUMMARY:Wanderung am Wochenende
CLASS:PUBLIC
DESCRIPTION:An (fast) jedem Wochenende laden die NaturFreunde Oberbarnim-Od
 erland e.V. Einwohner und Gäste zu verschiedenen Führungen\, Wanderungen
 \, Rad - und Kanutouren ein. Suchen sie sich gerne ihre Veranstaltung unte
 r der Vielzahl der Veranstaltungen heraus. Alle Informationen ausführlich
  unter www.berg-frei.de\n\nKontakt:\n\nDie NaturFreunde Deutschlands Regio
 nalgruppe Oberbarnim-Oderland e.V.\nDanckelmannstraße 28\n16259 Bad Freie
 nwalde (Oder)\nTelefon: +49 3344 3002881\nEmail: oderland@naturfreunde.de\
 n\nWeitere Informationen zur Veranstaltung: http://test.reiseregion-flaemi
 ng.de/veranstaltung/barnimer-land/wanderung-am-wochenende
CATEGORIES:Fest / Brauchtum
DTSTAMP:20260421T133335Z
END:VEVENT
END:VCALENDAR