BEGIN:VCALENDAR
VERSION:2.0
PRODID:test.reiseregion-flaeming.de
BEGIN:VEVENT
UID:69e747c54d78d
DTSTART:20260710T190000Z
SEQUENCE:0
TRANSP:OPAQUE
DTEND:20260710T210000Z
URL:http://test.reiseregion-flaeming.de/veranstaltung/spreewald/als-die-wel
 t-keine-scheibe-war-open-air-soundperformance-und-lasershow
LOCATION:Brandenburgisches Landesmuseum für Moderne Kunst - Dieselkraftwer
 k Cottbus\, Am Amtsteich 15\, 03046 Cottbus
X-APPLE-STRUCTURED-LOCATION;VALUE=URI;X-ADDRESS="Brandenburgisches Landesmu
 seum für Moderne Kunst - Dieselkraftwerk Cottbus, Am Amtsteich 15, 03046 
 Cottbus";X-APPLE-RADIUS=49;X-TITLE=Brandenburgisches Landesmuseum für Mod
 erne Kunst - Dieselkraftwerk Cottbus:geo:14.338617,51.759504
GEO:14.338617;51.759504
SUMMARY:Als die Welt keine Scheibe war - Open-Air-Soundperformance & Lasers
 how
CLASS:PUBLIC
DESCRIPTION:Eine Klang-/Licht-Inszenierung verbindet sich mit live-Konzert 
 und lyrischen Texten. Komposition für Lautsprecherorchester. Die Zuschaue
 r bewegen sich frei\, folgen ihren eigenen Assoziationen. Die Musik mäand
 ert über elektroakustisch ausgearbeitete\, abstrakt-fremdartige Momente b
 is hin zu fast hyperrealistisch klingenden Aufnahmen unserer akustischen U
 mwelt.\n\nDie zweistündige Aufführung bestreiten die vier Mitglieder des
  Ensembles\, die gleichermaßen als vier unterschiedliche Charaktere der i
 nszenierten Welt dieses Abends werden: Werner Cee mit der elektrischen ch
 ’in\, die Autorin Bettina Obrecht als Sprecherin ihrer eigenen Texte\; M
 omo Kohlschmidt als Sprecherin und Sängerin und Kai-Uwe Kohlschmidt\, Sä
 nger und Gitarrist der legendären Band Sandow\, als Percussionist und Sä
 nger.\n\n**Von** Werner Cee\, Bettina Obrecht\, Momo Kohlschmidt\, Kai Uwe
 -Kohlschmidt\n\nKontakt:\n\nBrandenburgisches Landesmuseum für moderne Ku
 nst - Dieselkraftwerk Cottbus\nUferstraße\, Am Amtsteich 15\n03046 Cottbu
 s\nTelefon: +49 355 49494040\nEmail: info-cb@blmk.de\nWebseite: https://ww
 w.blmk.de/\n\nWeitere Informationen zur Veranstaltung: http://test.reisere
 gion-flaeming.de/veranstaltung/spreewald/als-die-welt-keine-scheibe-war-op
 en-air-soundperformance-und-lasershow
CATEGORIES:Theater / Tanz / Kabarett,Chor / Folklore / Volksmusik
DTSTAMP:20260421T094749Z
END:VEVENT
END:VCALENDAR